BEGIN:VCALENDAR
VERSION:2.0
PRODID:-//Kultur am Land - ECPv6.15.18//NONSGML v1.0//EN
CALSCALE:GREGORIAN
METHOD:PUBLISH
X-WR-CALNAME:Kultur am Land
X-ORIGINAL-URL:https://www.kulturamland.at
X-WR-CALDESC:Veranstaltungen für Kultur am Land
REFRESH-INTERVAL;VALUE=DURATION:PT1H
X-Robots-Tag:noindex
X-PUBLISHED-TTL:PT1H
BEGIN:VTIMEZONE
TZID:Europe/Vienna
BEGIN:DAYLIGHT
TZOFFSETFROM:+0100
TZOFFSETTO:+0200
TZNAME:CEST
DTSTART:20250330T010000
END:DAYLIGHT
BEGIN:STANDARD
TZOFFSETFROM:+0200
TZOFFSETTO:+0100
TZNAME:CET
DTSTART:20251026T010000
END:STANDARD
BEGIN:DAYLIGHT
TZOFFSETFROM:+0100
TZOFFSETTO:+0200
TZNAME:CEST
DTSTART:20260329T010000
END:DAYLIGHT
BEGIN:STANDARD
TZOFFSETFROM:+0200
TZOFFSETTO:+0100
TZNAME:CET
DTSTART:20261025T010000
END:STANDARD
BEGIN:DAYLIGHT
TZOFFSETFROM:+0100
TZOFFSETTO:+0200
TZNAME:CEST
DTSTART:20270328T010000
END:DAYLIGHT
BEGIN:STANDARD
TZOFFSETFROM:+0200
TZOFFSETTO:+0100
TZNAME:CET
DTSTART:20271031T010000
END:STANDARD
END:VTIMEZONE
BEGIN:VEVENT
DTSTART;TZID=Europe/Vienna:20260506T201500
DTEND;TZID=Europe/Vienna:20260506T201500
DTSTAMP:20260424T105731
CREATED:20260407T092737Z
LAST-MODIFIED:20260407T092737Z
UID:9114-1778098500-1778098500@www.kulturamland.at
SUMMARY:Auf dem Weg – 1300 km zu mir
DESCRIPTION:Frei nach der Lebensgeschichte und dem darauf basierenden Bestseller „Auf versunkenen Wegen“ des französischen Autors Sylvain Tesson. \nEin zuversichtlicher Film über das Unterwegssein\, eine Ode an die Kraft und Schönheit der Natur und eine ermutigende Geschichte über das Weiterkommen. \nIn einer betrunkenen Nacht stürzt der Schriftsteller und Forscher Pierre (Jean Dujardin) mehrere Stockwerke in die Tiefe. Nach dem Unfall fällt er in ein tiefes Koma. Auf seinem Krankenbett\, wieder ins Leben zurückgekehrt\, verspricht er sich\, Frankreich zu Fuß vom Mercantour bis zum Cotentin zu durchqueren. Eine einzigartige und zeitlose Reise\, auf der er die Hyper-Landbevölkerung\, die Schönheit Frankreichs und die Wiedergeburt des Selbst kennenlernt. \nKINO Trailer \nFrankreich 2023 / 94 MinutenRegie: Denis Imbert / Drehbuch: Denis Imbert\, DiastèmeMit: Jean Dujardin\, Joséphine Japy\, \nEintritt: FREIwillig – Gib wieviel es Dir wert ist  \nReservierung: ticket@kulturamland.at \nEinlass: 30 min. vor Beginn der Veranstaltung
URL:https://www.kulturamland.at/programm/auf-dem-weg-1300-km-zu-mir/
CATEGORIES:Kino
ATTACH;FMTTYPE=image/jpeg:https://www.kulturamland.at/wp-content/uploads/2026/03/Kino-Auf-dem-Weg.jpg
END:VEVENT
BEGIN:VEVENT
DTSTART;TZID=Europe/Vienna:20260509T140000
DTEND;TZID=Europe/Vienna:20260509T140000
DTSTAMP:20260424T105731
CREATED:20260212T113845Z
LAST-MODIFIED:20260213T093932Z
UID:8755-1778335200-1778335200@www.kulturamland.at
SUMMARY:Kräuterwanderung für Kids
DESCRIPTION:Kräuter-Detektive auf Tour – Kräuterwanderung für Kinder (6–10 Jahre) \nGemeinsam gehen wir auf Entdeckungsreise durch die Bucher Wiesen und lernen spielerisch\, welche Kräuter direkt vor unserer Nase wachsen. Mit Augen\, Nase und Händen werden die Kinder zu echten Kräuter-Detektiven: Wir suchen essbare Wildpflanzen\, vergleichen Formen und Düfte und erfahren spannende Geschichten über ihre „Superkräfte“. \nJedes Kind bekommt eine kleine Sammel-Aufgabe – denn am Ende wird es lecker: Aus unseren gefundenen Kräutern zaubern wir gemeinsam eine Kräuterbutter oder einen Topfenaufstrich. Dazu backen wir Steckerlbrot am Feuer und genießen unsere selbstgemachte Kräuterjause in der Natur. \nEin Naturerlebnis zum Staunen\, Lernen und Schmecken! \nBitte mitnehmen: Korb zum Sammeln\, Brettchen und ein kleines Messer \nTreffpunkt bei Kultur am Land 13:45Uhr \nBegrenzte Teilnehmerzahl!ab 6 Jahren / Dauer ca. 2\,5hKosten: € 15\,- Anmeldung: unter ticket@kulturamland.at
URL:https://www.kulturamland.at/programm/krauterwanderung-fur-kids/
CATEGORIES:Kids
ATTACH;FMTTYPE=image/jpeg:https://www.kulturamland.at/wp-content/uploads/2026/02/kraeuter-kids-1.jpg
END:VEVENT
BEGIN:VEVENT
DTSTART;TZID=Europe/Vienna:20260509T203000
DTEND;TZID=Europe/Vienna:20260509T203000
DTSTAMP:20260424T105731
CREATED:20260203T124540Z
LAST-MODIFIED:20260407T085417Z
UID:8719-1778358600-1778358600@www.kulturamland.at
SUMMARY:Baba Yaga
DESCRIPTION:Grenzenlos – Baba Yaga zählt zu den spannendsten Newcomer-Stars der Weltmusikszene und startet 2026 mit zahlreichen neuen Releases und Projekten durch.  \nDie Band begeisterte bereits mit einer mitreißenden internationalen Tournee\, die ihr Publikum in zahlreichen Ländern Europas verzauberte. \nDas ist sie\, die Baba Yaga! Sie klingt virtuos\, feurig und verführt zum ekstatischen Tanz. Der Klang bleibt pur und authentisch: Violine\,  Kontrabass\, Gitarre\, Gesang\, Akkordeon und Percussion\, denn was braucht es mehr? Die fünf jungen KünstlerInnen stammen aus drei unterschiedlichen Ländern und spielen seit 2022 zusammen. In Österreich füllten Baba Yaga die letzten Jahre zahlreiche Konzertsäle und Festivals\, etwa das Porgy & Bess\, Metropol\, Kultursommer Wien\, ORF Radiokulturhaus\, Klezmore Festival uvm.  \nDas Repertoire reicht von wilden Balkan-Stücken\, Klezmertunes\, flottem Swing\, Gypsy Jazz und orientalischen Tänzen bis hin zu kontemporären Kompositionen\, die von der Combo selbst komponiert\, neu interpretiert und arrangiert werden\, wobei genug Platz zur freien Improvisation bleibt. Denn Baba Yaga liebt grenzenlose Freiheit. Der Klang ist pur und durch die rein akustische Besetzung authentisch\, klar und ehrlich. Baba Yaga nimmt wahrlich alle Sinne ihres Publikums gefangen und lockt in unberechenbare\, gefährliche Sphären. Dort wird dann getanzt\, geträumt\, gesungen und gefeiert\, so wie es Baba Yaga am besten gefällt. Am sorglosesten tanzt es sich halt ohne Grenzen. \nTicketsEintritt: VVK. € 18\,- || AK € 22.-  || KaLKulturPass \nReservierung ( AK Preis): ticket@kulturamland.atEinlass: 30 min. vor Beginn der Veranstaltung | Freie Platzwahl20 % Ermäßigt: für Schüler*innen\, Studierende bis 27\, Lehrlinge\, Präsenzdiener\,Freier Eintritt: Kinder & Jugentliche unter 15 Jahren
URL:https://www.kulturamland.at/programm/baba-yaga/
CATEGORIES:Konzert
ATTACH;FMTTYPE=image/jpeg:https://www.kulturamland.at/wp-content/uploads/2026/02/Baba-Yaga-2-1.jpg
END:VEVENT
BEGIN:VEVENT
DTSTART;TZID=Europe/Vienna:20260516T140000
DTEND;TZID=Europe/Vienna:20260516T140000
DTSTAMP:20260424T105731
CREATED:20260212T111928Z
LAST-MODIFIED:20260213T093943Z
UID:8868-1778940000-1778940000@www.kulturamland.at
SUMMARY:Kräuterwanderung für Erwachsene
DESCRIPTION:Wildkräuter entdecken & genießen \nBei dieser Kräuterwanderung tauchen wir gemeinsam in die Welt der heimischen Wildkräuter ein. Unterwegs lernst du die wichtigsten Pflanzenfamilien kennen und erhältst botanisches Grundwissen\, das hilft\, Wildkräuter sicher zu erkennen und ihre Inhaltsstoffe sowie Einsatzmöglichkeiten besser zu verstehen. \nWir besprechen\, wo man Kräuter sammeln darf – und wo nicht –\, worauf beim Sammeln zu achten ist und wie Wildkräuter richtig getrocknet werden. Außerdem teile ich meine liebsten Kräuterbücher sowie Rezeptideen für die Küche. \nAuf unserer Runde bleiben wir immer wieder stehen\, bestimmen die Pflanzen direkt vor Ort und schauen genau hin. Zum Abschluss sammelt jede*r eine Handvoll sicher bestimmbarer Kräuter\, daraus bereiten wir gemeinsam einen frischen Kräuterdip zu und genießen ihn mit frischem Brot. \nBitte mitnehmen: Korb zum Sammeln\, Brettchen und ein kleines Messer \nTreffpunkt bei Kultur am Land 13:45Uhr \nBegrenzte Teilnehmerzahl!Dauer ca. 2\,5hKosten: € 30\,- Anmeldung: unter ticket@kulturamland.at
URL:https://www.kulturamland.at/programm/krauterwanderung-fur-erwachsene/
CATEGORIES:Info,Workshop
ATTACH;FMTTYPE=image/jpeg:https://www.kulturamland.at/wp-content/uploads/2026/02/kraeuter-erwachsen.jpg
END:VEVENT
BEGIN:VEVENT
DTSTART;TZID=Europe/Vienna:20260530T093000
DTEND;TZID=Europe/Vienna:20260530T093000
DTSTAMP:20260424T105731
CREATED:20260330T102633Z
LAST-MODIFIED:20260330T102633Z
UID:9121-1780133400-1780133400@www.kulturamland.at
SUMMARY:Kreativ Kids - Papier selbst schöpfen!
DESCRIPTION:KREATIV Kids – Papier selbst schöpfen!\nZaubere dein eigenes\, kunstvolles Papier. Erlebe wie aus Altpapier die wunderschönsten Papierblätter entstehen. Wir experim-entieren mit den verschiedensten Farben\, Formen und Naturmaterialien herum. Probiere aus was dir gefällt. Ob Blüten\, Gräser oder Glitzer – Jedes Blatt ist einzigartig – Papier selbst zu schöpfen macht einfach nur Spaß! \nMitzubringen: Kleidung die schmutzig/nass werden darf (eventuell Wechselkleidung)  \nINFO\nBegrenzte Teilnehmerzahl!ab 6 Jahren (jünger mit Begleitung) / Dauer ca. 2\,5hKosten: € 15\,- inkl. Material\, Getränke u. kleiner Jause Anmeldung bei Elke unter 0664/3426326
URL:https://www.kulturamland.at/programm/kreativ-kids-papier-selbst-schoepfen/
CATEGORIES:Kids
ATTACH;FMTTYPE=image/jpeg:https://www.kulturamland.at/wp-content/uploads/2026/03/Papier-Schoepfen2.jpg
END:VEVENT
END:VCALENDAR