BEGIN:VCALENDAR
VERSION:2.0
PRODID:-//Kultur am Land - ECPv6.15.18//NONSGML v1.0//EN
CALSCALE:GREGORIAN
METHOD:PUBLISH
X-WR-CALNAME:Kultur am Land
X-ORIGINAL-URL:https://www.kulturamland.at
X-WR-CALDESC:Veranstaltungen für Kultur am Land
REFRESH-INTERVAL;VALUE=DURATION:PT1H
X-Robots-Tag:noindex
X-PUBLISHED-TTL:PT1H
BEGIN:VTIMEZONE
TZID:Europe/Vienna
BEGIN:DAYLIGHT
TZOFFSETFROM:+0100
TZOFFSETTO:+0200
TZNAME:CEST
DTSTART:20250330T010000
END:DAYLIGHT
BEGIN:STANDARD
TZOFFSETFROM:+0200
TZOFFSETTO:+0100
TZNAME:CET
DTSTART:20251026T010000
END:STANDARD
BEGIN:DAYLIGHT
TZOFFSETFROM:+0100
TZOFFSETTO:+0200
TZNAME:CEST
DTSTART:20260329T010000
END:DAYLIGHT
BEGIN:STANDARD
TZOFFSETFROM:+0200
TZOFFSETTO:+0100
TZNAME:CET
DTSTART:20261025T010000
END:STANDARD
BEGIN:DAYLIGHT
TZOFFSETFROM:+0100
TZOFFSETTO:+0200
TZNAME:CEST
DTSTART:20270328T010000
END:DAYLIGHT
BEGIN:STANDARD
TZOFFSETFROM:+0200
TZOFFSETTO:+0100
TZNAME:CET
DTSTART:20271031T010000
END:STANDARD
END:VTIMEZONE
BEGIN:VEVENT
DTSTART;TZID=Europe/Vienna:20260307T150000
DTEND;TZID=Europe/Vienna:20260307T150000
DTSTAMP:20260424T105729
CREATED:20260115T072812Z
LAST-MODIFIED:20260320T112034Z
UID:8600-1772895600-1772895600@www.kulturamland.at
SUMMARY:Herbert & Mimi 😀
DESCRIPTION:Rotkäppchen \nHerbert und Mimis neues Abenteuer führt sie in die Welt der Märchen. Es ist eine schöne Aufgabe\, der Großmutter Obst und Kuchen zu bringen\, findet Mimi. Gesagt\, getan. Und so beginnt ihre Reise in den Wald. Nur hat sie nicht damit gerechnet\, dass Herbert ständig Hunger hat und auch keine so rechte Ahnung davon\, womit Wölfe sich wohl die Zeit vertreiben! Also wird Mimis Ausflug in den Wald bald zu einer kleinen Jagd\, und in der Hütte der Großmutter geht auch nicht alles mit rechten Dingen zu. \nOb nun am Ende die Großmutter den Wolf\, oder der Jäger das Rotkäppchen\, oder der Herbert die Mimi verspeist … bleibt ungewiss. \nDie Show eignet sich sowohl für die Bühne als auch für die Straße und dauert 45 Minuten. \nGeeignet für Menschen ab 4 \n Ticket kaufenReservierung: ticket@kulturamland.at \nEinlass: 30 min. vor Beginn der Veranstaltung \nFreie Platzwahl \nEintritt: € 9.- für Groß&Klein \nPapier sparen und Umwelt schonen\nZeigt uns beim Einlass gerne einfach das heruntergeladene digitale Ticket am Smartphone.
URL:https://www.kulturamland.at/programm/herbert-mimi-5/
CATEGORIES:Archiv,Kids
ATTACH;FMTTYPE=image/jpeg:https://www.kulturamland.at/wp-content/uploads/2026/02/Herbert-mimi-Rotkaeppchen.jpg
END:VEVENT
BEGIN:VEVENT
DTSTART;TZID=Europe/Vienna:20260307T203000
DTEND;TZID=Europe/Vienna:20260307T203000
DTSTAMP:20260424T105729
CREATED:20260204T110202Z
LAST-MODIFIED:20260320T112050Z
UID:8747-1772915400-1772915400@www.kulturamland.at
SUMMARY:GUT GEMEINT
DESCRIPTION:Meinungsforschung im Gebirge:\nSehr frei nach Otto Günmandl\nJuhu: Endlich betreiben Juliana Haider und Michaela Posch wieder „Meinungsforschung im Gebirge“. \nFrei nach Otto Grünmandl und Theo Peer laden sie dabei deren „Alpenländische Interviews“ mit neuer Energie auf und brechen auf zu einem grotesken Gipfelsturm\, bei dem Traditionen skeptisch beäugt und die legendären Textvorlagen respekt- und humorvoll verludert und verli(e)derlicht werden. Also nichts wie auf ins Gebirge\, wo schwarzer Humor so farbenfroh schimmert\, dass es eine helle Freude ist. \n————————————————————————- \nSchauspiel: Juliana Haider & Michaela Posch \nTicketsReservierung: ticket@kulturamland.at \nEinlass: 30 min. vor Beginn der Veranstaltung | Freie Platzwahl\nEintritt: VVK. € 15\,- / AK € 18.-  || KaLKulturPass \n 20% Ermäßigt: für Schüler*innen\, Studierende bis 27\, Lehrlinge\, Präsenzdiener\,\nFreier Eintritt: Kinder & Jugentliche unter 15 Jahren
URL:https://www.kulturamland.at/programm/gut-gemeint/
CATEGORIES:Archiv,Kabarett
ATTACH;FMTTYPE=image/jpeg:https://www.kulturamland.at/wp-content/uploads/2026/02/Gut-gemeind.jpg
END:VEVENT
BEGIN:VEVENT
DTSTART;TZID=Europe/Vienna:20260318T201500
DTEND;TZID=Europe/Vienna:20260318T201500
DTSTAMP:20260424T105729
CREATED:20260117T113417Z
LAST-MODIFIED:20260320T112043Z
UID:8626-1773864900-1773864900@www.kulturamland.at
SUMMARY:KINO - Ausgsting
DESCRIPTION:Mit einem Abenteurer auf der Suche nach wahrer Freiheit. \nWer hat nicht schon einmal davon geträumt\, dem hektischen Alltag und den Zwängen der Gesellschaft zu entfliehen? Einfach alles hinter sich lassen – oder besser noch: komplett aussteigen\, die Welt entdecken und wahre Freiheit erleben! Aber was ist das eigentlich: wahre Freiheit? \nDer Filmemacher Julian Wittmann macht sich auf die Reise\, um eine Antwort zu finden. Und wenn es einer wissen muss\, dann doch wohl Wolfgang „Gangerl“ Clemens: Ein bayrisches Original\, über 80 Jahre alt\, seit knapp 40 Jahren ausgsting und mit einem Segelboot auf den Weltmeeren unterwegs. \nDrei Monate begleitet Julian den faszinierenden Freigeist und passionierten Entdecker auf einer abenteuer- lichen Reise\, taucht tief ein in die Welt eines Aussteigers und muss feststellen\, dass einem das Paradies nicht einfach so geschenkt wird… \nKINO Trailer \nDeutschland 2024 / Doku / 94 Minuten  \nDrehbuch & Regie Julian Wittmann \nProduzent Thomas Wittmann\, Schau Hi Films  \nEintritt: FREIwillig – Gib wieviel es Dir wert ist  \nReservierung: ticket@kulturamland.at \nEinlass: 30 min. vor Beginn der Veranstaltung
URL:https://www.kulturamland.at/programm/ausgsting/
CATEGORIES:Archiv,Kino
ATTACH;FMTTYPE=image/jpeg:https://www.kulturamland.at/wp-content/uploads/2026/02/Ausgsting.jpg
END:VEVENT
BEGIN:VEVENT
DTSTART;TZID=Europe/Vienna:20260321T093000
DTEND;TZID=Europe/Vienna:20260321T093000
DTSTAMP:20260424T105729
CREATED:20260117T114255Z
LAST-MODIFIED:20260414T104046Z
UID:8680-1774085400-1774085400@www.kulturamland.at
SUMMARY:Kreativ Kids – Raupe ... AUSGEBUCHT
DESCRIPTION:Kreativ Kids – Ein Buch erLeben – ein Buch beLeben!!!\nWir machen uns auf eine spannende Reise und begleiten die KLEINE RAUPE NIMMERSATT auf ihrem Weg. Wir „fressen uns mit der kleinen Raupe durch Blätter\, Erdbeeren… und erwecken sie mit FILZ zum Leben. Gemeinsam filzen wir viele kunterbunten Kugeln und so entsteht deine einzigartige RAUPE NIMMERSATT. \nMitzubringen: Kleidung die schmutzig/nass werden darf (eventuell Wechselkleidung)  \nBegrenzte Teilnehmerzahl!Für Menschen ab 6 Jahren/Volksschule (jünger mit Begleitung) Dauer ca. 2h / Begrenzte Teilnehmerzahl! \nKosten: € 15\,- inkl. Material\, Getränke u. kleiner Jause Anmeldung bei Elke unter 0664/3426326
URL:https://www.kulturamland.at/programm/kreativ-kids-raupe-nimmersat/
CATEGORIES:Archiv,Kids
ATTACH;FMTTYPE=image/jpeg:https://www.kulturamland.at/wp-content/uploads/2026/02/Raupe-Nimmersatt.jpg
END:VEVENT
BEGIN:VEVENT
DTSTART;TZID=Europe/Vienna:20260321T203000
DTEND;TZID=Europe/Vienna:20260321T203000
DTSTAMP:20260424T105729
CREATED:20260204T111350Z
LAST-MODIFIED:20260414T104027Z
UID:8602-1774125000-1774125000@www.kulturamland.at
SUMMARY:VIVID EVE
DESCRIPTION:​Sphärischer Alternative-Pop mit düsterer Note\nLeichtfüßig überwindet das Duo die klanglichen Grenzen eines Vocal-Gitarren-Formation mit Percussion und Gesangseffekten. \nIm Kern der Songs stehen Lyrics\, die uns wichtig sind. Das befeuert die Kompositionen und emotionale Live-Performances\, die zwischen intimen\, reduzierten Passagen und ausladenden\, ekstatischen Klangsphären oszillieren. \n– Stefanie – Vocals / FX– Hans – Guitars / VocalsVivid (Electric & Acoustic Percussion Lights)Eve (Guitars\, Live-Loops Soundscapes)  \nTicketsEintritt – wieviel es Dir wert ist: € 8\,- / € 13\,- / € 18\,- (Online oder Abendkasse) \nTicket Reservierung ( AK Preis): ticket@kulturamland.atEinlass: 30 min. vor Beginn der Veranstaltung | Freie PlatzwahlFreier Eintritt: Kinder & Jugentliche unter 15 Jahren
URL:https://www.kulturamland.at/programm/vivid-eve/
CATEGORIES:Archiv,Konzert
ATTACH;FMTTYPE=image/jpeg:https://www.kulturamland.at/wp-content/uploads/2026/02/Vivid-eve-2-1.jpg
END:VEVENT
BEGIN:VEVENT
DTSTART;TZID=Europe/Vienna:20260327T193000
DTEND;TZID=Europe/Vienna:20260327T193000
DTSTAMP:20260424T105729
CREATED:20260224T104226Z
LAST-MODIFIED:20260414T104023Z
UID:8845-1774639800-1774639800@www.kulturamland.at
SUMMARY:Wohnzimmergespräch
DESCRIPTION:Georg Schärmer führt das Intervew mit Altpfarrer Rudolf Theurl\, es geht um das Leben – offen\, ehrlich und nahbar.Freuen Sie sich auf bewegende Einblicke\, prägende Erfahrungen und persönliche Wendepunkte\, die inspirieren und zum Nachdenken anregen. Neben biografischen Stationen geht es auch um Gedanken zu aktuellen gesellschaftlichen Themen. Das Gespräch findet in einem bewusst gemütlichen Rahmen statt – fast so\, als säße man gemeinsam im Wohnzimmer.Eine angenehme Atmosphäre\, Raum für Zwischentöne und echte Begegnung stehen im Mittelpunkt dieses Abends. \nIm Anschluss besteht die Möglichkeit zum Austausch und persönlichen Gespräch. Ein Abend für alle\, die Geschichten lieben\, Denkanstöße suchen und inspirierende Menschen hautnah erleben möchten. \nZur Person: Rudolf Theurl war katholischer Pfarrer in der Stadt Schwaz und prägte dort über Jahrzehnte das kirchliche und soziale Leben. Er engagierte sich zudem stark für interreligiösen Dialog und das Zusammenleben verschiedener Kulturen und Religionen in Schwaz. \nReservierung erwünscht : ticket@kulturamland.at \n  \nGAST: Rudolf Theurl – Foto Haun meinbezirk.at \nINTERVIEW: Georg Schärmer – Fotos Bernhard Schösser \nEintritt: FREIwillig – Gib wieviel es Dir wert ist  \nReservierung: ticket@kulturamland.at \nEinlass: 30 min. vor Beginn der Veranstaltung
URL:https://www.kulturamland.at/programm/wohnzimmergespraech/
CATEGORIES:Archiv,Info,Vortrag
ATTACH;FMTTYPE=image/jpeg:https://www.kulturamland.at/wp-content/uploads/2026/02/Wohnzimmer-Gespraech-1.jpg
END:VEVENT
BEGIN:VEVENT
DTSTART;TZID=Europe/Vienna:20260328T140000
DTEND;TZID=Europe/Vienna:20260328T140000
DTSTAMP:20260424T105729
CREATED:20260206T091123Z
LAST-MODIFIED:20260414T104019Z
UID:8894-1774706400-1774706400@www.kulturamland.at
SUMMARY:Salsa Crashkurs
DESCRIPTION:Salsa Beginner Crashkurs  \nBenno & Petra vom „Latin Dance Center“ bietet einen fundierten Einstieg in Salsa Cubana\, ergänzt mit Basics für Bachata und Kizomba. Im Anschluss kann man den Intermediate Kurs besuchen\, oder/und\, Bachata/Kizomba Beginner.\n \nNach diesem Kurs bist du für eine Latin-Party gerüstet. Wenn du danach auf den Geschmack gekommen bist\, gibt es weitere Kurse im latindancecenter.at in Innsbruck. \nHinweis: Anmeldung auch ohne Tanzpartner möglich! ​ \n \nFiesta Latina 28.3 ab 20:30UhrKursteilnehmer haben am Abend Eintritt Frei \nTermin: Sa 28.3 / Dauer: ca. 3\,5h / Kosten € 40\,-Anmeldung bis 25.3. : ticket@kulturamland.at(es ist eine Mindestteilnehmerzahl erforderlich)
URL:https://www.kulturamland.at/programm/salsa-crashkurs/
CATEGORIES:Archiv,Tanzen,Workshop
ATTACH;FMTTYPE=image/jpeg:https://www.kulturamland.at/wp-content/uploads/2023/02/Salsa-kurs.jpg
END:VEVENT
BEGIN:VEVENT
DTSTART;TZID=Europe/Vienna:20260328T203000
DTEND;TZID=Europe/Vienna:20260328T203000
DTSTAMP:20260424T105729
CREATED:20260115T073150Z
LAST-MODIFIED:20260414T104109Z
UID:8604-1774729800-1774729800@www.kulturamland.at
SUMMARY:Fiesta Latina
DESCRIPTION:Latin feeling“ mit der besten Musik aus Lateinamerika. \nFür alle die ein bisschen Karibiksches feeling brauchen. Eine heiße Nacht mit Rhythmen\, aus ganz Lateinamerika Cuba\, Brasil\, …Das DJ Duo „La Roja & Benno“ bringt Stimmung\, Spaß und guten Sound in’s Lokal! Salsa\, Merengue\, Cumbia und Batchata … \n \n \n\n \n \nEintritt – wieviel es Dir wert ist: € 5\,- / € 8\,- / € 12\,- (Abendkasse)Reservierung: ticket@kulturamland.at \nEinlass: 30 min. vor Beginn der Veranstaltung
URL:https://www.kulturamland.at/programm/fiesta-latina-6/
CATEGORIES:Archiv,DJ,Party,Tanzen
ATTACH;FMTTYPE=image/jpeg:https://www.kulturamland.at/wp-content/uploads/2026/02/Fiesta-Latina-1.jpg
END:VEVENT
END:VCALENDAR