BEGIN:VCALENDAR
VERSION:2.0
PRODID:-//Kultur am Land - ECPv6.15.18//NONSGML v1.0//EN
CALSCALE:GREGORIAN
METHOD:PUBLISH
X-ORIGINAL-URL:https://www.kulturamland.at
X-WR-CALDESC:Veranstaltungen für Kultur am Land
REFRESH-INTERVAL;VALUE=DURATION:PT1H
X-Robots-Tag:noindex
X-PUBLISHED-TTL:PT1H
BEGIN:VTIMEZONE
TZID:Europe/Vienna
BEGIN:DAYLIGHT
TZOFFSETFROM:+0100
TZOFFSETTO:+0200
TZNAME:CEST
DTSTART:20240331T010000
END:DAYLIGHT
BEGIN:STANDARD
TZOFFSETFROM:+0200
TZOFFSETTO:+0100
TZNAME:CET
DTSTART:20241027T010000
END:STANDARD
BEGIN:DAYLIGHT
TZOFFSETFROM:+0100
TZOFFSETTO:+0200
TZNAME:CEST
DTSTART:20250330T010000
END:DAYLIGHT
BEGIN:STANDARD
TZOFFSETFROM:+0200
TZOFFSETTO:+0100
TZNAME:CET
DTSTART:20251026T010000
END:STANDARD
BEGIN:DAYLIGHT
TZOFFSETFROM:+0100
TZOFFSETTO:+0200
TZNAME:CEST
DTSTART:20260329T010000
END:DAYLIGHT
BEGIN:STANDARD
TZOFFSETFROM:+0200
TZOFFSETTO:+0100
TZNAME:CET
DTSTART:20261025T010000
END:STANDARD
END:VTIMEZONE
BEGIN:VEVENT
DTSTART;TZID=Europe/Vienna:20251001T201500
DTEND;TZID=Europe/Vienna:20251001T201500
DTSTAMP:20260424T193423
CREATED:20250825T114902Z
LAST-MODIFIED:20251006T081339Z
UID:7755-1759349700-1759349700@www.kulturamland.at
SUMMARY:🎞️Otto Lechner - Der Musikant
DESCRIPTION:Musikalische Elementarereignisse und ihr Schöpfer: OTTO LECHNER – DER MUSIKANT ist ein Film\, in dem man den Menschen – nicht nur den Musiker – Otto Lechner kennenlernen kann. Ein Kino-Erlebnis mit großartigen Konzertaufnahmen\, sehr persönlichen Gesprächen und dem wunderbaren Humor des österreichischen Akkordeon-Genies. \nZwischen der\, vom Akkordeon untermalten Rezitation einer Erzählung von Franz Kafka\, und der „Dark Side of the Accordion“\, seiner persönlichen Hommage an Pink Floyd: Was Otto Lechner seiner Ziehharmonika entlockt\, ist musikalische Urkraft. In Bernhard Pötschers Dokumentarfilm OTTO LECHNER – DER MUSIKANT begegnet man derartigen Elementarereignissen und dem\, der diese geschaffen hat. \nDabei ist das Akkordeon\, das er in unerreichter Meisterschaft spielt\, bei weitem nicht das einzige musikalische Ausdrucksmittel Otto Lechners. Und auch in bloß ein musikalisches Genre lässt sich dieses Urgestein von Musiker nicht pressen. All das ist in Pötschers Film mitzuerleben: Vom Karel-Gott-Schlager „Fang das Licht“\, das Otto Lechner mit seiner Partnerin Anne Bennent singt\, bis zur Symphonischen Dichtung „Gracchus“\, die er als Auftragswerk im Brucknerjahr 2024 komponiert hat\, reicht hier der musikalische Bogen. Dazwischen Jazz\, Weltmusik und österreichische Liedermacherei\, wo Otto Lechner ebenso zu Hause ist wie in der Sprache\, welcher er auf seine Weise musikalischen Ausdruck verleiht. OTTO LECHNER – DER MUSIKANT zeigt ihn\, wie er leibt und lebt: In Frankreich glückt ihm gemeinsam mit dem Akkordeonisten Arnaud Méthivier eine kongeniale Kommunikation der Klänge. Nicht minder gelingt ihm dies\, wenn er eine Reise mit einem Dr.-Richard-Bus ins Südburgenland besingt: „Vierz‘g Leit im Nebel\, und nix ist passiert …“. \nKINO Trailer \nBernhard Pötscher | AT 2025 | 100 min \nMit: Otto Lechner\, Anne Bennent\, Klaus Trabitsch\, Peter Rosmanith\, Max Nagl\, Karl Ritter u.a.   \nEintritt: FREIwillig – Gib wieviel es Dir wert ist \nReservierung: ticket@kulturamland.at \nEinlass: 30 min. vor Beginn der Veranstaltung
URL:https://www.kulturamland.at/programm/otto-lechner-der-musikant/
CATEGORIES:Archiv,Kino
ATTACH;FMTTYPE=image/jpeg:https://www.kulturamland.at/wp-content/uploads/2025/08/Otto-Lechner.jpg
END:VEVENT
BEGIN:VEVENT
DTSTART;TZID=Europe/Vienna:20251004T150000
DTEND;TZID=Europe/Vienna:20251004T150000
DTSTAMP:20260424T193423
CREATED:20250705T205514Z
LAST-MODIFIED:20251006T081326Z
UID:7742-1759590000-1759590000@www.kulturamland.at
SUMMARY:😀Das Städtchen Drumherum
DESCRIPTION:Geschichtenkompott’s mit Juliana Haider und Michaela Posch  \nJuhu: Die Geschichte vom schützenswerten Städtchen kommt auf die Kultur am Land Bühne. Dort geht’s um Kinder und Tiere\, die einen Wald beschützen und dafür ihre schlauen Köpfchen benutzen. Tschulie und Michi schlüpfen dafür in etliche Rollen\, werden zum leicht verbohrten Bürgermeister\, zur zauberhaften Zauberfrau und zu standhaften Waldretter:innen\, die gegen Bodenversiegelung auf die Barrikaden steigen. Dieses Spiel macht nicht nur Spaß\, man lernt auch was dabei. Was? Sich für die Umwelt zu wehren\, ist sowas von wichtig! \nDas Städtchen Drumherum (von Mira Lobe\, 5+) – eine szenische Lesung es lesen und spielen: Juliana Haider und Michaela PoschDauer: ca. 50 Minuten  \nTicket kaufenTicket Reservierung: ticket@kulturamland.at \nEinlass: 30 min. vor Beginn der Veranstaltung \nFreie Platzwahl \nEintritt:  € 9.- \nPapier sparen und Umwelt schonen\nZeigt uns beim Einlass gerne einfach das heruntergeladene digitale Ticket am Smartphone.
URL:https://www.kulturamland.at/programm/das-staedtchen-drumherum/
CATEGORIES:Archiv,Kids
ATTACH;FMTTYPE=image/jpeg:https://www.kulturamland.at/wp-content/uploads/2025/08/Kinder-Theater.jpg
END:VEVENT
BEGIN:VEVENT
DTSTART;TZID=Europe/Vienna:20251004T203000
DTEND;TZID=Europe/Vienna:20251004T203000
DTSTAMP:20260424T193423
CREATED:20250705T203130Z
LAST-MODIFIED:20251006T081320Z
UID:7680-1759609800-1759609800@www.kulturamland.at
SUMMARY:🎶2 Duos\, 2 Instrumente\, 2 Welten
DESCRIPTION:WhaTheFolk?! (Progressive Folk)\nStefan Manges (Akkordeon) und Harri Egger (Bariton E-Gitarre) sind WhaTheFolk?! Sie formen ihre instrumentalen Einflüsse aus Folk\, Blues\, Jazz und Rock zu einem klanglichen Novum aus energetischen Rhythmen und kosmischen Melodien. Die zwei experimentierfreudigen Musiker vereinen mit ihrem Bekenntnis zu Verspieltheit und Vielfalt die Tradition mit der Progression. So lassen sie der Verschmelzung des Folk-Genres mit zahlreichen weiteren musikalischen Strömungen ihren freien Lauf und erschaffen ihre eigene Musik sowie neue Arrangements und Interpretationen traditioneller Stücke. \n💿An diesem Abend feiert das Duo außerdem die Veröffentlichung ihres Debut-Albums „WhaTheFolk?!“\, welches sie in voller Länge zum Besten geben werden! \nYoutube: www.youtube.com/@WhaTheFolk-1\nBandcamp: https://whathefolk.bandcamp.com\n \n\n„Perin & Barbarossa“\nDas akustische Duo aus Südtirol\, bestehend aus Marc Perin (Gitarre) und Tobias „Barbarossa“ Egger (steirische Harmonika)\, verschmilzt Folk und Rock zu einem bemerkenswert vollen Klang. Sie versuchen einen vollen Sound zu schaffen\, indem sie perkussive Elemente und rhythmische Melodien mit einem teils rockigen und auch folkigen Sound vermischen. Vorbilder sind Rodrigo y Gabriela\, Herbert Pixner und Tommy Emmanuel\, sowie Rockbands. \n\n Ticket kaufenGib wieviel es Dir wert ist: €5\,- / €10\,- / €15\,-   \nTicket Reservierung:   ticket@kulturamland.at \nEinlass: 30 min. vor Beginn der Veranstaltung Freie Platzwahl
URL:https://www.kulturamland.at/programm/whathefolk-marc-perin/
CATEGORIES:Archiv,Konzert
ATTACH;FMTTYPE=image/jpeg:https://www.kulturamland.at/wp-content/uploads/2025/08/WhaTheFolkPerin-Barbarossa2.jpg
END:VEVENT
BEGIN:VEVENT
DTSTART;TZID=Europe/Vienna:20251016T200000
DTEND;TZID=Europe/Vienna:20251016T200000
DTSTAMP:20260424T193423
CREATED:20250819T072507Z
LAST-MODIFIED:20251028T080913Z
UID:7861-1760644800-1760644800@www.kulturamland.at
SUMMARY:👣Tango Argentino
DESCRIPTION:Lebensgefühl und kultureller Ausdruck\nDer weltweit verbreitete Volkstanz mit schwarz-afrikanischen Wurzeln aus der wohl europäischsten Metropole Südamerikas\, Buenos Aires\, liefert mit erdiger Musik und kommunikativem Tanz fernab von tradierten Klischees seinen positiven Beitrag zur Globalisierung. \nMann und Frau vereinen sich mit dem Gefühl für den Augenblick zu einem tanzenden Ganzen. Eva und Gerhard möchten euch den Tanz Schritt für Schritt näherbringen. Am ersten Abend ist schnuppern möglich! \n \n Donnerstags\, 7 Abende je 1\,5 hKosten:  € 120\,-\nAnmeldung: bei Gerhard unter Tel. 0676/5077687
URL:https://www.kulturamland.at/programm/tango-argentino-5/
CATEGORIES:Workshop
ATTACH;FMTTYPE=image/jpeg:https://www.kulturamland.at/wp-content/uploads/2025/08/Tango.jpg
END:VEVENT
BEGIN:VEVENT
DTSTART;TZID=Europe/Vienna:20251018T093000
DTEND;TZID=Europe/Vienna:20251018T093000
DTSTAMP:20260424T193423
CREATED:20250818T151237Z
LAST-MODIFIED:20251028T081513Z
UID:7692-1760779800-1760779800@www.kulturamland.at
SUMMARY:Ausgebucht!😃Trommel bauen
DESCRIPTION:Erschaffe in der Musikwerkstatt durch Kreativität dein eigenes\, selbstgebautes Musikinstrument\, das wir gemeinsam erforschen und zum Leben erklingen lassen. \nDiesmal geht die Reise zu den Trommel Brasiliens und Afrika.  Die Trommel ist eines der ältesten Musikinstrumente der Welt. Sie ist in jedem Erdteil und jeder Kultur zu finden. Die Trommel hatte immer eine große Bedeutung für die Menschen\, da ihr Klang dem Herzschlag der Mutter gleicht. \nMit viel Kreativität und Bastellaune entsteht deine eigene\, selbstgemachte Trommel\, mit der wir zum Schluss noch gemeinsam spielen werden.  \nMitzubringen:     Kleidung die schmutzig werden darf            \nINFO\nBegrenzte Teilnehmerzahl!ab 6 Jahren (jünger mit Begleitung) / Dauer ca. 2\,5hKosten: € 15\,- inkl. Material\, Getränke u. kleiner Jause Anmeldung bei Elke unter 0664/3426326
URL:https://www.kulturamland.at/programm/kreativ-kids-5/
CATEGORIES:Archiv,Kids
ATTACH;FMTTYPE=image/jpeg:https://www.kulturamland.at/wp-content/uploads/2025/08/Trommel-bauen.jpg
END:VEVENT
BEGIN:VEVENT
DTSTART;TZID=Europe/Vienna:20251018T150000
DTEND;TZID=Europe/Vienna:20251018T150000
DTSTAMP:20260424T193423
CREATED:20250818T074035Z
LAST-MODIFIED:20251028T081023Z
UID:7805-1760799600-1760799600@www.kulturamland.at
SUMMARY:👣Swing Tanzkurs  👉in Schwaz
DESCRIPTION:Swing Tanzworkshop\n \nWO: Schwaz –  Johannes Messner Weg 12\,  Osthalle im Ernst Saal.  \n15.00 – 16.15 Styling im Lindy für Leicht Fortgeschrittene\nIn diesem Kurs lernst du\, wie du mit einfachen Mitteln deine gefestigten Basics aufpeppen und deinen Tanz verspielter und interessanter machen kannst! \n16.30 – 17.45 Styling im Swingout für Fortgeschrittene\nWenn die Basics sitzen und der Swingout wuppt\, lernst du in diesem Kurs wie du beidem durch Styling und Variationen dein persönliches Etwas hinzufügen kannst! \nTrainerInnen: Greta und Yannick \nAnmeldung im EKIZ – Schwaz unter:\ninfo@ekiz-schwaz.at oder 05242 72848 Vorm. \n——————————————————- \nEine Kooperation mit „Swing Tanz.at“ Schwaz\nKontakt: schwaz.swingtanzen@gmail.com \n\nSwingin‘ Party – Band Jazzaster > mehr Info \nAnmeldung im EKIZ – Schwaz unter: info@ekiz-schwaz.at oder 05242 72848 Vorm. \nPreise:  1 Einheit 17 €  |||   2 Einheiten Preis 26 €
URL:https://www.kulturamland.at/programm/swing-tanzworkshop-in-schwaz/
CATEGORIES:Archiv,Workshop
ATTACH;FMTTYPE=image/jpeg:https://www.kulturamland.at/wp-content/uploads/2025/08/Workshop-Swing2.jpg
END:VEVENT
BEGIN:VEVENT
DTSTART;TZID=Europe/Vienna:20251018T203000
DTEND;TZID=Europe/Vienna:20251018T203000
DTSTAMP:20260424T193423
CREATED:20250705T203136Z
LAST-MODIFIED:20251028T081019Z
UID:7698-1760819400-1760819400@www.kulturamland.at
SUMMARY:🎶Swingin‘ Party - Band Jazzaster
DESCRIPTION:Swingparty bei Kultur am Land  \n19.00 Swing – SoloCrashKurs Solo Tanzen für Anfänger und FortgeschritteneAnmeldung: ticket@kulturamland.at \n20:30 Band JazzasterDie Band „Jazzaster“ rund um die Pianistin „Rita Goller“ sorgt dafür\, dass der Abend den richtigen SwingGroove bekommt. \n——————————————————- \nEine Kooperation mit „Swing Tanz.at“ SchwazKontakt: schwaz.swingtanzen@gmail.com \n \n\n\n\nSwing Tanzworkshop – mehr Infos >>>WO: Schwaz –  Johannes Messner Weg 12\, in Schwaz\, Osthalle im Ernst Saal.  \n\nEintritt:€ 16\,- (inklusiv 1h SoloCrashKurs)12€ für Teilnehmer vom Nachmitags Workshop \nAnmeldung SoloCrashKurs & Ticket Reservierung: ticket@kulturamland.at \nEinlass: 30 min. vor Beginn der VeranstaltungFreie Platzwahl / wenig Sitzplätze + Tanzfläche
URL:https://www.kulturamland.at/programm/swingin-samstag/
CATEGORIES:Archiv,Konzert
ATTACH;FMTTYPE=image/jpeg:https://www.kulturamland.at/wp-content/uploads/2025/09/Swing-Jazzaster.jpg
END:VEVENT
BEGIN:VEVENT
DTSTART;TZID=Europe/Vienna:20251022T201500
DTEND;TZID=Europe/Vienna:20251022T201500
DTSTAMP:20260424T193423
CREATED:20250813T111544Z
LAST-MODIFIED:20251124T082739Z
UID:7757-1761164100-1761164100@www.kulturamland.at
SUMMARY:🎞️Austroschwarz
DESCRIPTION:AUSTROSCHWARZ begleitet den Musiker Mwita Mataro auf einer filmischen Reise durch seine Heimat Österreich. In einer einzigartigen Verbindung aus Essay und spielerischer Animation erzählt er vom Schwarz-Sein in Österreich\, von Identität\, Zusammen- halt und Kunst als Aktivismus. Der Film ermutigt\, inspiriert und kommt genau zur richtigen Zeit. \nDer abendfüllende Dokumentarfilm AUSTROSCHWARZ handelt vom Schwarzen Kunst- und Kulturschaffenden Mwita Mataro. Der gebürtige Salzburger nimmt uns für 90 Minuten in seine Lebensrealität mit und lässt uns an der Auseinandersetzung mit seiner Schwarzen Hautfarbe teilhaben. Stilistisch bricht der Film dafür mit der konventionellen Erzählung des Dokumentarfilms\, um stattdessen mit einer Kombination aus Roadmovie\, essayistischem Film und Zeichentrick eine einfühlsame Perspektive einzunehmen. AUSTROSCHWARZ ist ein intimes Portrait\, ein Film über persönliche und nationale Identität und über ein diverses Österreich. Ein Film über Empowerment\, nicht über Rassismus.  \nKINO Trailer \nÖsterreich 2025 / 98 Minuten / Freigegeben ab 6 JahrenRegie: Mwita Mataro\, Helmut Karner Drehbuch: Mwita Mataro\, Helmut Karner Kamera: Jasmin Schwendinger / Schnitt: Christin Veith Musik: Nicola Mpunga aka Kimyan Law   \nEintritt: FREIwillig – Gib wieviel es Dir wert ist  \nReservierung: ticket@kulturamland.at \nEinlass: 30 min. vor Beginn der Veranstaltung
URL:https://www.kulturamland.at/programm/austroschwarz/
CATEGORIES:Archiv,Kino
ATTACH;FMTTYPE=image/jpeg:https://www.kulturamland.at/wp-content/uploads/2025/08/3.jpg
END:VEVENT
BEGIN:VEVENT
DTSTART;TZID=Europe/Vienna:20251031T150000
DTEND;TZID=Europe/Vienna:20251031T150000
DTSTAMP:20260424T193423
CREATED:20250818T141608Z
LAST-MODIFIED:20251104T121749Z
UID:7835-1761922800-1761922800@www.kulturamland.at
SUMMARY:🌱Kim chi trifft Sauerkraut
DESCRIPTION:Wer fermentiert\, hat meist allerhand zu erzählen\, vielleicht auch was zu fragen. Wer es immer schon gerne mal probieren wollte und sich nie so ganz getraut hat\, kann hier die Dinge erfahren\, die nicht in den Rezepten stehen. \nFür wen?  Neulinge und Erfahrene\, Traditionalistinnen und Experimentierfreudige – alle sind willkommen. \nBringt auch gerne eure blubbernden Freunde wie Kombucha\, Kefir\, Sauerteig\, Wasser-Kefir\, Bier\, Wein\, Natto und Co – zum kosten und tauschen. \nIn der zweiten Hälfte des Treffs (ca. 16:30) legen wir auch Hand an: Diesmal geht es ums Einlegen in Salzlake. Im Stil von Salzgurken (nicht Essiggurken!) legen wir ein\, was gerade zur Verfügung steht. \nWer mitmachen mag bringt dafür Gemüse (zB. Gurken groß oder klein\, Zucchini\, Knoblauch\, Zwiebel\, Kohlrabi\, Topinambur\, Rettich\, Karotten….)\, Schneidbrett und Messer und ein Gurkenglas mit. Eine Anmeldung ist nicht nötig\, aber bei Fragen erreicht ihr mich unter fermentiertreff@mailbox.org \nbis ca 18 Uhr \n \n\nEintritt: FREI \nEinlass: 15 min. vor Beginn der Veranstaltung
URL:https://www.kulturamland.at/programm/%f0%9f%8c%b1kim-chi-trifft-sauerkraut/
CATEGORIES:Archiv,Info,Nachhaltig,Treffpunkt
ATTACH;FMTTYPE=image/jpeg:https://www.kulturamland.at/wp-content/uploads/2025/01/Fermentieren.jpg
END:VEVENT
END:VCALENDAR