BEGIN:VCALENDAR
VERSION:2.0
PRODID:-//Kultur am Land - ECPv6.15.18//NONSGML v1.0//EN
CALSCALE:GREGORIAN
METHOD:PUBLISH
X-WR-CALNAME:Kultur am Land
X-ORIGINAL-URL:https://www.kulturamland.at
X-WR-CALDESC:Veranstaltungen für Kultur am Land
REFRESH-INTERVAL;VALUE=DURATION:PT1H
X-Robots-Tag:noindex
X-PUBLISHED-TTL:PT1H
BEGIN:VTIMEZONE
TZID:Europe/Vienna
BEGIN:DAYLIGHT
TZOFFSETFROM:+0100
TZOFFSETTO:+0200
TZNAME:CEST
DTSTART:20240331T010000
END:DAYLIGHT
BEGIN:STANDARD
TZOFFSETFROM:+0200
TZOFFSETTO:+0100
TZNAME:CET
DTSTART:20241027T010000
END:STANDARD
BEGIN:DAYLIGHT
TZOFFSETFROM:+0100
TZOFFSETTO:+0200
TZNAME:CEST
DTSTART:20250330T010000
END:DAYLIGHT
BEGIN:STANDARD
TZOFFSETFROM:+0200
TZOFFSETTO:+0100
TZNAME:CET
DTSTART:20251026T010000
END:STANDARD
BEGIN:DAYLIGHT
TZOFFSETFROM:+0100
TZOFFSETTO:+0200
TZNAME:CEST
DTSTART:20260329T010000
END:DAYLIGHT
BEGIN:STANDARD
TZOFFSETFROM:+0200
TZOFFSETTO:+0100
TZNAME:CET
DTSTART:20261025T010000
END:STANDARD
END:VTIMEZONE
BEGIN:VEVENT
DTSTART;TZID=Europe/Vienna:20250613T200000
DTEND;TZID=Europe/Vienna:20250614T233000
DTSTAMP:20260425T020656
CREATED:20250204T130823Z
LAST-MODIFIED:20250823T121120Z
UID:6847-1749844800-1749943800@www.kulturamland.at
SUMMARY:Zommkemma Festival 2025
DESCRIPTION:Fr 13.Juni | Beginn 20:30 Uhr | ZOMMKEMMA – KONZERT \n🧡ZK African Voices Insingizi \n\nEin Trio aus Simbabwe bietet harmonischen A-cappella-Gesang\, traditionelle Lieder\, Handpercussion und eine hervorragende Choreografie. \nSa 14.Juni | Beginn 11:00 Uhr | MARKT\, KIDS\, KONZERT \n🧡ZK Weltmarkt\nDer vielfältige & kunterbunte Treffpunkt für Groß und Klein\nDer Markt ist ein Straßenfest zum chillen\, schlemmen\, zuhören\, spielen und quatschen. Es gibt Live Musik\, Kulinarisches\, Produkte aus der ganzen Welt und viele Aktionen für Groß und Klein. \nSa 14.Juni | Beginn 20:30 Uhr | ZOMMKEMMA – KONZERT \n🧡ZK Groove Night\n– The URGONAUTS (IT) – AgriSka PunkSteady\nMit einem Rocksteady-Schritt reift und verunreinigt ihr Sound\, indem er die süchtig machenden Ska-Reggae-Rhythmen der Karibik mit einer Punk-Attitüde\, dem echten romagnolischen folkloristisch-agrarischen Charakter und Pinselstrichen von Cumbia und Afrobeat vermischt. \n– Soundsystem -„DJ Chan Da Man“ & „D-RAS“  \n– Mario Parizek – (Leider abgesagt)
URL:https://www.kulturamland.at/programm/zommkemma-festival/
CATEGORIES:Archiv,Konzert
ATTACH;FMTTYPE=image/jpeg:https://www.kulturamland.at/wp-content/uploads/2024/11/Web-Bild-Zommkemma.jpg
END:VEVENT
BEGIN:VEVENT
DTSTART;TZID=Europe/Vienna:20250613T203000
DTEND;TZID=Europe/Vienna:20250613T203000
DTSTAMP:20260425T020656
CREATED:20250402T093500Z
LAST-MODIFIED:20250823T121052Z
UID:7304-1749846600-1749846600@www.kulturamland.at
SUMMARY:ZK🧡African Voice – Insingizi
DESCRIPTION:Ein Trio aus Simbabwe begeistert mit A-cappella-Gesang\, traditionellen Liedern\, Percussion und Choreografie. \nInsingizis Lieder handeln von den Herausforderungen unserer heutigen Welt\, und sie haben eine Liebenswürdigkeit und Ehrlichkeit\, die die Seele berühren. Diese Musik ist voll Hoffnung\, Optimismus und Glaube. Wo immer die Gruppe auftritt\, spiegeln die Reinheit ihrer stimmlichen Harmonien und der erhebende Ton ihrer Botschaft ihre Überzeugung wider. Alle drei Musiker wurden in der Provinz Matabeleland in Simbabwe geboren. Das Trio gewann eine Vielzahl an Musikwettbewerben in seiner Heimat und wurde darüber hinaus bekannt\, als 1995 „Bantu-Nonke-Sugar Daddy“ erschien\, das schnell zur Anti-Aids-Hymne wurde. Insingizi präsentiert „Imbube“-Musik in Ndebele\, einer Sprache aus dem Süden Afrikas\, die Ladysmith Black international bekannt gemacht hat. \nDer optimistische Ton ihrer Botschaften versöhnt in Toleranz: Den außergewöhnlichen Gesangsmeistern aus Bulawayo in Zimbabwe und ihren feinsinnig überzeugenden Kompositionen kann sich weltweit niemand entziehen. In ihren traditionellen Liedern\, die die vielfältigen Herausforderungen der modernen Welt thematisieren\, spiegelt sich liebenswürdige Ehrlichkeit wider.  \nTicketsEinlass 20Uhr / Freie Platzwahl \nRestkarten ab 20 Uhr an der Kasse. \nAbendkassa € 20.- / 16\,- (erm.) | KaLKulturPass \nReservierung: ticket@kulturamland.at \nErmäßigt: für Schüler*innen\, Studierende bis 27\, Lehrlinge\, Präsenzdiener\,  \nPapier sparen und Umwelt schonenZeigt uns beim Einlass gerne einfach das heruntergeladene digitale Ticket am Smartphone.Auch Screenshots und weitergeleitete Tickets funktionieren\, sofern der QR-Code lesbar ist.
URL:https://www.kulturamland.at/programm/zommkemma-insingizi/
CATEGORIES:Archiv,Konzert
ATTACH;FMTTYPE=image/jpeg:https://www.kulturamland.at/wp-content/uploads/2025/05/Insingizi.jpg
END:VEVENT
BEGIN:VEVENT
DTSTART;TZID=Europe/Vienna:20250614T110000
DTEND;TZID=Europe/Vienna:20250614T110000
DTSTAMP:20260425T020656
CREATED:20250402T113012Z
LAST-MODIFIED:20250823T121040Z
UID:7349-1749898800-1749898800@www.kulturamland.at
SUMMARY:ZK🧡Weltmarkt
DESCRIPTION:Der vielfältige & kunterbunte Treffpunkt für Groß und Klein\nDas Straßenfest zum chillen\, schlemmen\, zuhören\, spielen und quatschen. Es gibt Live Musik\, Kulinarisches\, Produkte aus der ganzen Welt und viele Aktionen für Groß und Klein. \n🧡Kreativmarkt \n\nBeim Kultur am Land Kreativmarkt gibt es eine große Auswahl an schönen\, nützlichen\, gesunden und schenkenswerten Produkten aus Tirol und der ganzen Welt. \n🧡Live Musik 🎵\nStreet Nois Orchester\nMotto: Jede*r darf draußen Lärm machen – wir bringen den Groove auf die Straße! Mit Klezmer\, Balkan-Blasmusik\, Funk\, lateinamerikanischen Rhythmen und punkigem Twist bieten wir eine einzigartige Mischung aus Volksliedern\, Hits und Eigenkompositionen. Tanzbar\, zärtlich\, konfrontativ und unwiderstehlich – das ist unser Community Brass Band Stil. Entdecke unser Repertoire!  —- VIDEO \nHan.z & Band - acoustic folk-punk aus tirol\nEingängige Melodien\, nachdenkliche Lyrics und druckvolle Stimme. Das ist han.z – Acoustic Folk-Punk aus Tirol. Seine Lieder regen zum Nachdenken über Gesellschaft\, Politik und das Leben an. Derzeit mit Band zu sehen – spielt han.z auch Songs aus seiner EP „hold on“. —- VIDEO \n Silaba & Demba Diatta - African Groove\n \nÖsterreich meets Afrika\, rhythmisch\, leidenschaftlich\, lebendig. Der Meistertrommler Demba und seine Musiker versprühen afrikanische Lebensfreude und haben Spaß am Rhythmus Afrikas. —–VIDEO \nWorld Session Band \nLeidenschaftliche Musiker spielen quer durch den Soundgarten zB. Reggae\, Irish\, Rock Klassiker\, Balkan\, …. \n🧡Aktionen für Groß & Klein 😀\n\nBogenschießen \nStreetdance Workshop Kids Street Motion Studio – In unseren Tanzworkshops werden euch das Basiswissen & Grundtechniken der Stilrichtungen Hip Hop\, Breaking.  (VIDEO)\nClownshow – Mr. Spagetti\nJonglier Stadion\nRiesenseifenblasen\nImpro Theater – Impropool\nTrommelzelt – Demba & Sidy\nStrassenmalen\n\n🧡SchlemmerReise🥙🍰\n– Peruano Cusine – peruanischen Küche\n– Crêpes & Memorys – Süßes und Herzhaftes\n– Koidampf – Streed-Food – Maxican Style\n– Kirchenwirt Mehrn – Zillertaler und BIO Zillertaler Krapfen sowie BIO Nougat-Schoko-Krapfen\n– Mandelstandl – gebrannte Mandeln\, Schokofrüchte\, Popcorn\,…\n– Kult Bar – Kaffee\, Kuchen & Durstlöscher aller Art \n  \nWeltmarkt Öffnungszeit: 11 bis 20 UhrMusik Programm 12 bis 19 Uhr | Kinderprogramm 12 -18 Uhr \nEintritt ist Frei\nZommkemma Festival 2025 – 13.6 – Insingizi 20:30Uhr |  14.6 – Weltmarkt 11Uhr  |  14.6 – Groove Night 20Uhr
URL:https://www.kulturamland.at/programm/zommkemma-weltmarkt-2/
CATEGORIES:Archiv,Familie,Kids,Konzert,Markt,Theater,Workshop
ATTACH;FMTTYPE=image/jpeg:https://www.kulturamland.at/wp-content/uploads/2025/05/Weltmarkt.jpg
END:VEVENT
BEGIN:VEVENT
DTSTART;TZID=Europe/Vienna:20250614T203000
DTEND;TZID=Europe/Vienna:20250614T203000
DTSTAMP:20260425T020656
CREATED:20250402T102015Z
LAST-MODIFIED:20250823T121044Z
UID:7300-1749933000-1749933000@www.kulturamland.at
SUMMARY:🧡Zommkemma Groove Night 25
DESCRIPTION:„Zommkemma Groove Night“ für diejenigen\, die so richtig Lust zu tanzen haben. Auf dem Programm stehen Bands im Genre Reggae\, Ska\, Patchanka & Balkan.  \nZommkemma – tanzen – feiern – kennenlernen – respekt  \n\nThe Urgonauts \n (AgriSka PunkSteady / Italia)\nRocksteady Sound mit süchtig machenden Ska-Reggae-Rhythmen der Karibik\, einer Punk-Attitüde\, echten romagnolischen folkloristisch Charakter und Pinselstrichen von Cumbia und Afrobeat vermischt. \n \nDie Urgonauts sind ein 8 Musiker Kollektiv aus dem mythologischen Urgone-Tal in Italien. Bass\, Schlagzeug\, peppige Gitarren\, Gesang in Mundart\, alte Orgeln und eine Bläsersektion wie ein großes Orchester ergeben eine einzigartige\, lustige und explosive Mischung. \nEine Band wie in alten Zeiten\, in der jedes Mitglied auch Sänger ist\, eine Show\, die das Publikum in wilde Tänze verwickelt und schnell zu einem Bezugspunkt in der unabhängigen Romagna wird. Ihre Lieder sind eine Reihe von revolutionären und mitreißenden Balladen\, die die postapokalyptischen Mythologien des Urgone-Tals in einer goliardischen und provokativen Weise erzählen. \nSoundsystem„DJ Chan Da Man“ & „D-RAS“ \nNewcomer Artist „D-RAS“ aus Saalfelden live on Stage bei Kultur am Land. Bei der Afterparty sorgt DJ „CHAN DA MAN“ für Stimmung auf dem Dancefloor mit einer Mischung aus Funk\, Reggae\, Hip-Hop\, Mixups – Jungle – Drum & Bass. \n\nMario Parizek (Leider abgesagt)\nTicketsOnlinevorverkauf endet am Sa 14.6 um 12Uhr \nVVK Tickets gibt es noch beim Weltmarkt an der Barund ab 20 Uhr an der Kasse.  \nEinlass 20Uhr / Freie Platzwahl \nEintrittspreis VVK. € 17\,- | 14\,- (erm.) | Abendkassa € 20.- / 17\,- (erm.) KaLKulturPass \nErmäßigt: für Schüler*innen\, Studierende bis 27\, Lehrlinge\, Präsenzdiener\, \n Papier sparen und Umwelt schonenZeigt uns beim Einlass gerne einfach das heruntergeladene digitale Ticket am Smartphone.Auch Screenshots und weitergeleitete Tickets funktionieren\, sofern der QR-Code lesbar ist.
URL:https://www.kulturamland.at/programm/zommkemma-groove-night-25/
CATEGORIES:Archiv,Highlight,Konzert,Party
ATTACH;FMTTYPE=image/jpeg:https://www.kulturamland.at/wp-content/uploads/2025/05/Groove-Night.jpg
END:VEVENT
BEGIN:VEVENT
DTSTART;TZID=Europe/Vienna:20250628T093000
DTEND;TZID=Europe/Vienna:20250628T093000
DTSTAMP:20260425T020656
CREATED:20250404T063228Z
LAST-MODIFIED:20250823T121033Z
UID:7448-1751103000-1751103000@www.kulturamland.at
SUMMARY:KREATIV-KIDS - Insektenhotel!
DESCRIPTION:Mein kunterbuntes Bienen- und Insektenhotel! \nDiesmal entdecken wir bei den KREATIV-KIDS die Welt der Bienen und Insekten. Gemeinsam gestalten und befüllen wir ein neues\, buntes  Haus wo sie sich wohlfühlen können. Wir lernen viel Neues über die kleinen Lebewesen\, denn sie sind die wichtigsten Bewohner unserer Natur. Komm zu den KREATIV-KIDS und experimentiere mit Farben und den verschiedensten Materialien. Wir lassen Träume und Farbe lebendig werden. \nMitzubringen:   Kleidung die schmutzig werden darf und viel gute Laune! \nBei Schönwetter im Freien!   \nINFO\nBegrenzte Teilnehmerzahl!ab 6 Jahren (jünger mit Begleitung) / Dauer ca. 2hKosten: € 15\,- inkl. Material\, Getränke u. kleiner Jause ( „KAL.KIDS.PASS“ € 10\,-)Anmeldung bei Elke unter 0664/3426326
URL:https://www.kulturamland.at/programm/kreativ-kids-insektenhotel/
CATEGORIES:Archiv,Kids
ATTACH;FMTTYPE=image/jpeg:https://www.kulturamland.at/wp-content/uploads/2025/04/KreativKids-insekten.jpg
END:VEVENT
BEGIN:VEVENT
DTSTART;TZID=Europe/Vienna:20250628T200000
DTEND;TZID=Europe/Vienna:20250628T200000
DTSTAMP:20260425T020656
CREATED:20250422T101730Z
LAST-MODIFIED:20250823T121026Z
UID:7497-1751140800-1751140800@www.kulturamland.at
SUMMARY:Milonga
DESCRIPTION:Argentinischen Tango Tanzabend.\nUm einen Einblick in diesen wunderbaren Tanz zu ermöglichen\, lädt Tango-libre alle Interessierten zu der Milonga ein. Der Tango hat sich in verschiedenen Formen von Buenos Aires aus in der gesamten Welt verbreitet. Die ursprüng-lichere Form des Tanzes und die zugehörige Musik ist der Tango Argentino.  \nINFO\n\nEinlass: 30 min. vor Beginn der Veranstaltung
URL:https://www.kulturamland.at/programm/milonga-2/
CATEGORIES:Archiv,DJ,Tanzen
ATTACH;FMTTYPE=image/jpeg:https://www.kulturamland.at/wp-content/uploads/2023/01/tango.jpg
END:VEVENT
END:VCALENDAR