BEGIN:VCALENDAR
VERSION:2.0
PRODID:-//Kultur am Land - ECPv6.15.18//NONSGML v1.0//EN
CALSCALE:GREGORIAN
METHOD:PUBLISH
X-WR-CALNAME:Kultur am Land
X-ORIGINAL-URL:https://www.kulturamland.at
X-WR-CALDESC:Veranstaltungen für Kultur am Land
REFRESH-INTERVAL;VALUE=DURATION:PT1H
X-Robots-Tag:noindex
X-PUBLISHED-TTL:PT1H
BEGIN:VTIMEZONE
TZID:Europe/Vienna
BEGIN:DAYLIGHT
TZOFFSETFROM:+0100
TZOFFSETTO:+0200
TZNAME:CEST
DTSTART:20250330T010000
END:DAYLIGHT
BEGIN:STANDARD
TZOFFSETFROM:+0200
TZOFFSETTO:+0100
TZNAME:CET
DTSTART:20251026T010000
END:STANDARD
BEGIN:DAYLIGHT
TZOFFSETFROM:+0100
TZOFFSETTO:+0200
TZNAME:CEST
DTSTART:20260329T010000
END:DAYLIGHT
BEGIN:STANDARD
TZOFFSETFROM:+0200
TZOFFSETTO:+0100
TZNAME:CET
DTSTART:20261025T010000
END:STANDARD
BEGIN:DAYLIGHT
TZOFFSETFROM:+0100
TZOFFSETTO:+0200
TZNAME:CEST
DTSTART:20270328T010000
END:DAYLIGHT
BEGIN:STANDARD
TZOFFSETFROM:+0200
TZOFFSETTO:+0100
TZNAME:CET
DTSTART:20271031T010000
END:STANDARD
END:VTIMEZONE
BEGIN:VEVENT
DTSTART;TZID=Europe/Vienna:20260620T110000
DTEND;TZID=Europe/Vienna:20260620T110000
DTSTAMP:20260424T141136
CREATED:20260317T165659Z
LAST-MODIFIED:20260421T091145Z
UID:8687-1781953200-1781953200@www.kulturamland.at
SUMMARY:Zommkemma Festival 2026
DESCRIPTION:Unsere größte Veranstaltung des Jahres ist das „Zommkemma Festival“\, das 2026 zugleich unser 40-jähriges Jubiläum markiert.  \nEs steht nun eine neue Veränderung an: Wir ziehen in den Waldpark „Knippingpark“ in Buch und gestalten das gesamte Festival als Open-Air-Veranstaltung. Das Festival ist ein offener Treffpunkt für Menschen aller Altersgruppen\, Kulturen und Hintergründe. Der neue Veranstaltungsort\, ein Waldspielplatz in unserer Gemeinde\, bietet eine besondere Atmosphäre und unterstreicht den Charakter des Festivals als Ort der Begegnung und Vielfalt.  \nLive Musik\n\nStreet Noise Orchestra – Mehr Groove auf die Straße\nTOI – Half (Mundart-Band – Rock-\, Blues-\, Pop)\nStreet Noise Orchestra – Mehr Groove auf die Straße\nAmerInkas – Latinmusik der Anden\nWorld Session Band\nMary Janes Soundgarden – Funk & Indie-Soul\nJimmy and the Goofballs – Reggae\, Funk\, Hip-Hop\nAfter Pary mit DJ Andinio\n\nTOI  - Half (Mundart-Band - Rock\, Blues\, Pop)\nKultur am Land“ hat uns praktisch beim Großwerden zugeschaut – musikalisch und sonst auch. Seit vielen Jahren sind wir mit „Kultur am Land“ verbunden. Zum 40er kommen Stephan Mathoi und Philipp Hager deshalb zu zweit vorbei: mit Songs\, Geschichten und allem\, was zu einem ordentlichen Fest dazugehört. TOI ist eine Mundart-Band aus dem Tiroler Oberland. Die Texte kommen im Pitztaler Dialekt daher\, die Musik kommt aus allen möglichen Richtungen der Popular-Musik. So treffen Rock-\, Blues-\, Soul- und Pop-Songs auf Pitztaler Gesang. \nStreet Noise Orchestra - Groove im Wald\nMotto: Jede*r darf draußen Lärm machen – wir bringen den Groove auf die Straße! Unser musikalisches Menü ist eine lebendige Mischung aus globalen Volksliedern\, modernen Hits und schicken Eigenkompositionen. Unsere Sets sprudeln vor Klezmer\, Balkan-Blasmusik\, einem Schuss Funk\, lateinamerikanischen Rhythmen und einem punkigen Twist. Entdecken unser Repertoire! Das SNO zelebriert einen Community Brass Band Stil\, der ins Tanzbein fährt\, aufs Herz zielt und den Kopf nicht vergisst: tanzbar\, zärtlich\, konfrontativ und unwiderstehlich. \nAmerInkas - Latinmusik der Anden\nSeit über 30 Jahren trägt die Gruppe die Musik und Seele Lateinamerikas in die Welt. Mit den Klängen traditioneller andiner Instrumente erzählen sie von ihrer Heimat\, von den Bergen\, den Festen\, der Hoffnung und der Liebe ihres Volkes. In ihren Liedern spürt man die Lebensfreude und die Kraft der Anden. Mit Musik aus Peru und vielen weiteren Ländern Lateinamerikas – von Ecuador über Bolivien bis Chile\, Argentinien\, Uruguay und Mexiko – lassen AmerInkas die Vielfalt und den Reichtum dieses Kontinents lebendig werden. \nWorld Session Band - Quer durch den Soundgarten\nDie World Session ist seit Jahren ein fixer Bestandteil des Zommkemma Festivals. Leidenschaftliche Musiker und Freunde der Kultur am Land nehmen das Publikum mit auf eine musikalische Reise. Mit viel Spielfreude und mitreißenden Grooves geht es von Reggae über Irish Folk bis hin zu alten Klassikern. Auch Mitjammen ist möglich. \nMary Janes Soundgarden  - Funk & Indie-Soul\nDie Funkband „Mary Jane’s Soundgarden“ hat sich seit ihrer Gründung dem Groove verschrieben.  Zwischen rohem Funk und Indie-Soul entfaltet sich ein Werk\, das von innerem Wachstum\, echter Freundschaft und überraschenden Wendungen erzählt. Die Rhythmusgruppe bestehend aus Lukas Schmidt\, Lukas Klingseisen und Michael Reitinger sorgt für das musikalische Fundament der in Wien lebenden Gruppe. Die eingespielte Mischung aus Funk & Indie-Soul Elementen lässt den Platz für die verspielten Synth-Sounds des Saxophonisten Dido Aschauer. Vervollständigt wird „Mary Jane’s Soundgarden“ durch die Sängerin Tanja “Aunty” Peinsipp\, die mit ihrer Bühnenpräsenz und unverkennbaren Stimmgewalt niemanden still sitzen lässt. Das Ziel ihrer Show ist es\, den Besucher:innen einen unvergesslichen Abend zu bereiten und gemeinsam das Leben zu feiern. So put on your dancing shoes and shake everything you got! \nJimmy a. t. Goofballs - Reggae\, HipHop\, Rock\nHinter Jimmy and the Goofballs stecken zehn energiegeladene Musiker aus den Alpen\, die seit 2013 mit ihrem einzigartigen Sound für Aufsehen sorgen. Ihre Musik verbindet Reggae mit Funk\, Hip-Hop\, Rock und kräftiger Blasmusik aus den Bergen – eine explosive Mischung voller Rhythmus und Lebensfreude. Mit Auftritten auf großen Bühnen wie dem FM4 Frequency Festival\, dem Donauinselfest und dem One Drop Festival haben sie tausende Fans begeistert. Nach Singles und der EP Hey Jimmy! folgte ihr erstes Album Jimmy and the Goofballs – voller Songs\, die garantiert niemanden stillstehen lassen. Wenn Jimmy spielt\, bleibt kein Fuß ruhig – Party\, Energie und gute Laune sind garantiert. \nAfter Party - DJ Andinio\nDj Andinio bei der Afterparty\, World\, Latin\, Ethnic Tribal Sound \nKreativ Markt \nBeim Kultur am Land Kreativmarkt gibt es eine große Auswahl an schönen\, nützlichen\, gesunden und schenkenswerten Produkten aus Tirol und der ganzen Welt.  \nTextil\, Kunsthandwerk & Schmuck aus Indien\, Equator\, Uganda\, Kolumbien\, Handgemachtes\, Kinderbekleidung\, Betonschmuck\, Recycling Produkte und Kunterbuntes aus Wolle\, Lederwaren\, Heilsteine\, Räucherwerk\, Steinschmuck\, …. \nSchlemmerreise\nEine kulinarische Schlemmerreise beim Zommkemma mit Spezialitäten aus aller Welt: von peruanischer Küche über süße und herzhafte Crêpes bis hin zu Street-Food im mexikanischen Stil. Freuen Sie sich auf gutes aus der Tirole Küche und süße Leckereien\, wie gebrannte Mandeln\, Zuckerwatte sowie Kaffee\, Kuchen und erfrischende Getränke für genussvolle Momente. \nAktionen für Groß & Klein\n\nBogenschießen \nClown – Mr. Spagetti\nMitmach Zirkus\nRiesenseifenblasen\nJonglieren\nTrommelzelt\nMalstraße\nBeatbox Crashkurs\nKinderschminken\n\nTrommelzeltBogenschiessenRiesenseifenblasenMitmach Zirkus &  Mr. SpagettiBeatbox Crashkurs mit Samuel PliegerKnipping ParkDemo Videos\nÖffnungszeit \nKulinarik ab 11Uhr Aktionen für Groß & Klein​ | 12:00 bis 19:00 Uhr Kreativmarkt | 11:00 bis ca. 21:00 UhrLive Musik | 12:00 bis ca. 24:00Uhr \nEintritt ist Freiwillige \nEs gibt die Möglichkeit unseren Zommkemma Weltmarkt\, Freiwillig zu unterstützen. \nOnline oder beim Festival!Wenn ihr euch dafür entscheidet\, sagen wir schon mal DANKE! \nFreiwillig unterstützenANFAHRT \nKnippingpark\, Rotholz  \n  Link GOOGLE MAP  \n \n \nPARKEN \n Versteigerungshalle Rotholz \n Link Google Map
URL:https://www.kulturamland.at/programm/zommkemma-festival-2026/
CATEGORIES:Familie,Kids,Konzert,Markt,Show,Workshop
ATTACH;FMTTYPE=image/jpeg:https://www.kulturamland.at/wp-content/uploads/2026/03/Zommkemma-26-2.jpg
END:VEVENT
END:VCALENDAR