BEGIN:VCALENDAR
VERSION:2.0
PRODID:-//Kultur am Land - ECPv6.15.18//NONSGML v1.0//EN
CALSCALE:GREGORIAN
METHOD:PUBLISH
X-WR-CALNAME:Kultur am Land
X-ORIGINAL-URL:https://www.kulturamland.at
X-WR-CALDESC:Veranstaltungen für Kultur am Land
REFRESH-INTERVAL;VALUE=DURATION:PT1H
X-Robots-Tag:noindex
X-PUBLISHED-TTL:PT1H
BEGIN:VTIMEZONE
TZID:Europe/Vienna
BEGIN:DAYLIGHT
TZOFFSETFROM:+0100
TZOFFSETTO:+0200
TZNAME:CEST
DTSTART:20250330T010000
END:DAYLIGHT
BEGIN:STANDARD
TZOFFSETFROM:+0200
TZOFFSETTO:+0100
TZNAME:CET
DTSTART:20251026T010000
END:STANDARD
BEGIN:DAYLIGHT
TZOFFSETFROM:+0100
TZOFFSETTO:+0200
TZNAME:CEST
DTSTART:20260329T010000
END:DAYLIGHT
BEGIN:STANDARD
TZOFFSETFROM:+0200
TZOFFSETTO:+0100
TZNAME:CET
DTSTART:20261025T010000
END:STANDARD
BEGIN:DAYLIGHT
TZOFFSETFROM:+0100
TZOFFSETTO:+0200
TZNAME:CEST
DTSTART:20270328T010000
END:DAYLIGHT
BEGIN:STANDARD
TZOFFSETFROM:+0200
TZOFFSETTO:+0100
TZNAME:CET
DTSTART:20271031T010000
END:STANDARD
END:VTIMEZONE
BEGIN:VEVENT
DTSTART;TZID=Europe/Vienna:20260506T201500
DTEND;TZID=Europe/Vienna:20260506T201500
DTSTAMP:20260424T123840
CREATED:20260407T092737Z
LAST-MODIFIED:20260407T092737Z
UID:9114-1778098500-1778098500@www.kulturamland.at
SUMMARY:Auf dem Weg – 1300 km zu mir
DESCRIPTION:Frei nach der Lebensgeschichte und dem darauf basierenden Bestseller „Auf versunkenen Wegen“ des französischen Autors Sylvain Tesson. \nEin zuversichtlicher Film über das Unterwegssein\, eine Ode an die Kraft und Schönheit der Natur und eine ermutigende Geschichte über das Weiterkommen. \nIn einer betrunkenen Nacht stürzt der Schriftsteller und Forscher Pierre (Jean Dujardin) mehrere Stockwerke in die Tiefe. Nach dem Unfall fällt er in ein tiefes Koma. Auf seinem Krankenbett\, wieder ins Leben zurückgekehrt\, verspricht er sich\, Frankreich zu Fuß vom Mercantour bis zum Cotentin zu durchqueren. Eine einzigartige und zeitlose Reise\, auf der er die Hyper-Landbevölkerung\, die Schönheit Frankreichs und die Wiedergeburt des Selbst kennenlernt. \nKINO Trailer \nFrankreich 2023 / 94 MinutenRegie: Denis Imbert / Drehbuch: Denis Imbert\, DiastèmeMit: Jean Dujardin\, Joséphine Japy\, \nEintritt: FREIwillig – Gib wieviel es Dir wert ist  \nReservierung: ticket@kulturamland.at \nEinlass: 30 min. vor Beginn der Veranstaltung
URL:https://www.kulturamland.at/programm/auf-dem-weg-1300-km-zu-mir/
CATEGORIES:Kino
ATTACH;FMTTYPE=image/jpeg:https://www.kulturamland.at/wp-content/uploads/2026/03/Kino-Auf-dem-Weg.jpg
END:VEVENT
END:VCALENDAR