BEGIN:VCALENDAR
VERSION:2.0
PRODID:-//Kultur am Land - ECPv6.15.18//NONSGML v1.0//EN
CALSCALE:GREGORIAN
METHOD:PUBLISH
X-WR-CALNAME:Kultur am Land
X-ORIGINAL-URL:https://www.kulturamland.at
X-WR-CALDESC:Veranstaltungen für Kultur am Land
REFRESH-INTERVAL;VALUE=DURATION:PT1H
X-Robots-Tag:noindex
X-PUBLISHED-TTL:PT1H
BEGIN:VTIMEZONE
TZID:Europe/Vienna
BEGIN:DAYLIGHT
TZOFFSETFROM:+0100
TZOFFSETTO:+0200
TZNAME:CEST
DTSTART:20250330T010000
END:DAYLIGHT
BEGIN:STANDARD
TZOFFSETFROM:+0200
TZOFFSETTO:+0100
TZNAME:CET
DTSTART:20251026T010000
END:STANDARD
BEGIN:DAYLIGHT
TZOFFSETFROM:+0100
TZOFFSETTO:+0200
TZNAME:CEST
DTSTART:20260329T010000
END:DAYLIGHT
BEGIN:STANDARD
TZOFFSETFROM:+0200
TZOFFSETTO:+0100
TZNAME:CET
DTSTART:20261025T010000
END:STANDARD
BEGIN:DAYLIGHT
TZOFFSETFROM:+0100
TZOFFSETTO:+0200
TZNAME:CEST
DTSTART:20270328T010000
END:DAYLIGHT
BEGIN:STANDARD
TZOFFSETFROM:+0200
TZOFFSETTO:+0100
TZNAME:CET
DTSTART:20271031T010000
END:STANDARD
END:VTIMEZONE
BEGIN:VEVENT
DTSTART;TZID=Europe/Vienna:20260425T093000
DTEND;TZID=Europe/Vienna:20260425T093000
DTSTAMP:20260424T105729
CREATED:20260205T153013Z
LAST-MODIFIED:20260408T083046Z
UID:8865-1777109400-1777109400@www.kulturamland.at
SUMMARY:AUSGEBUCHT! Kreativ Kids – Traumfänger
DESCRIPTION:Traumfänger basteln!\nSchlecht geträumt? Unser Traumfänger hilft dir wieder gut zu schlafen und sieht nebenbei noch wunderschön aus! \nNach einer alten Sage der Indianer fängt der Traumfänger alle bösen Träume ein. Nur die guten Träume fallen sanft auf dich herab. \nAlso wenn du keine schlechten Träume mehr haben willst\, komm schnell zu den Kreativ-Kids und bastle mit uns deinen einzigartigen Traumfänger. Verziere ihn mit Federn\, Perlen\, Muscheln\, Bändern und viel Fantasie. \nMitzubringen: Kleidung\, die schmutzig werden darf und viel gute Laune!  \nBegrenzte Teilnehmerzahl!ab 6 Jahren (jünger mit Begleitung) / Dauer ca. 2\,5hKosten: € 15\,- inkl. Material\, Getränke u. kleiner Jause Anmeldung bei Elke unter 0664/3426326
URL:https://www.kulturamland.at/programm/kreativ-kids-traumfaenger/
CATEGORIES:Kids
ATTACH;FMTTYPE=image/jpeg:https://www.kulturamland.at/wp-content/uploads/2026/02/Traumfaenger.jpg
END:VEVENT
BEGIN:VEVENT
DTSTART;TZID=Europe/Vienna:20260425T190000
DTEND;TZID=Europe/Vienna:20260425T190000
DTSTAMP:20260424T105729
CREATED:20260205T112810Z
LAST-MODIFIED:20260217T103101Z
UID:8847-1777143600-1777143600@www.kulturamland.at
SUMMARY:Jazz/Pop/Rock Abend der LMS Schwaz
DESCRIPTION:Die Landesmusikschule Schwaz lädt zu einem abwechslungsreichen Konzertabend voller Groove\, Energie und musikalischer Vielfalt ein. Ensembles der LMS Schwaz präsentieren ein spannendes Programm zwischen Jazz\, Pop und Rock. \nAuf der Bühne stehen neu formierte Bands ebenso wie routinierte Ensembles und talentierte Solistinnen und Solisten\, die mit viel Spielfreude und musikalischem Können begeistern. Von gefühlvollen Balladen über mitreißende Rocknummern bis hin zu groovigen Jazzklängen erwartet das Publikum ein abwechslungsreicher Abend mit jeder Menge guter Musik. \nEin Konzert voller junger Energie\, musikalischer Leidenschaft und überraschender Klangmomente – man darf gespannt sein! \nEintritt – wieviel es Dir wert ist (An der Kasse) \nTicket Reservierung ( AK Preis): ticket@kulturamland.atEinlass: 30 min. vor Beginn der Veranstaltung | Freie Platzwahl
URL:https://www.kulturamland.at/programm/jazz-pop-rock-abend-der-lms-schwaz-2/
CATEGORIES:Konzert
ATTACH;FMTTYPE=image/jpeg:https://www.kulturamland.at/wp-content/uploads/2026/02/LMS-Konzert.jpg
END:VEVENT
END:VCALENDAR