BEGIN:VCALENDAR
VERSION:2.0
PRODID:-//Kultur am Land - ECPv6.15.18//NONSGML v1.0//EN
CALSCALE:GREGORIAN
METHOD:PUBLISH
X-WR-CALNAME:Kultur am Land
X-ORIGINAL-URL:https://www.kulturamland.at
X-WR-CALDESC:Veranstaltungen für Kultur am Land
REFRESH-INTERVAL;VALUE=DURATION:PT1H
X-Robots-Tag:noindex
X-PUBLISHED-TTL:PT1H
BEGIN:VTIMEZONE
TZID:Europe/Vienna
BEGIN:DAYLIGHT
TZOFFSETFROM:+0100
TZOFFSETTO:+0200
TZNAME:CEST
DTSTART:20250330T010000
END:DAYLIGHT
BEGIN:STANDARD
TZOFFSETFROM:+0200
TZOFFSETTO:+0100
TZNAME:CET
DTSTART:20251026T010000
END:STANDARD
BEGIN:DAYLIGHT
TZOFFSETFROM:+0100
TZOFFSETTO:+0200
TZNAME:CEST
DTSTART:20260329T010000
END:DAYLIGHT
BEGIN:STANDARD
TZOFFSETFROM:+0200
TZOFFSETTO:+0100
TZNAME:CET
DTSTART:20261025T010000
END:STANDARD
BEGIN:DAYLIGHT
TZOFFSETFROM:+0100
TZOFFSETTO:+0200
TZNAME:CEST
DTSTART:20270328T010000
END:DAYLIGHT
BEGIN:STANDARD
TZOFFSETFROM:+0200
TZOFFSETTO:+0100
TZNAME:CET
DTSTART:20271031T010000
END:STANDARD
END:VTIMEZONE
BEGIN:VEVENT
DTSTART;TZID=Europe/Vienna:20260422T201500
DTEND;TZID=Europe/Vienna:20260422T201500
DTSTAMP:20260424T141215
CREATED:20260205T120553Z
LAST-MODIFIED:20260303T101004Z
UID:8849-1776888900-1776888900@www.kulturamland.at
SUMMARY:Kindern eine Chance
DESCRIPTION:Seit nunmehr 18 Jahren kümmert sich der Tiroler Verein Kindern Eine Chance mit vielfältigen Angeboten um benachteiligte Kinder in Uganda und ist mittlerweile zur größten rein ehrenamtlich tätigen Organisation Österreichs geworden.  \nBei diesem Vortrag zeigt das Vorstandsmitglied Thomas Knapp Bilder aus Uganda und berichtet über laufende Tätigkeitsfelder\, Zukunftsaussichten und wie so ein rasantes Wachstum überhaupt möglich war. \nDie Freiwilligen Spenden kommen dem Projekt zugute. \nHomepage: https://www.kinderneinechance.at/ \nEintritt: FREIwillig – Gib wieviel es Dir wert ist / Spenden kommen dem Projekt zugute. \nReservierung: ticket@kulturamland.at \nEinlass: 30 min. vor Beginn der Veranstaltung
URL:https://www.kulturamland.at/programm/kindern-eine-chance/
CATEGORIES:Info,Vortrag
ATTACH;FMTTYPE=image/jpeg:https://www.kulturamland.at/wp-content/uploads/2026/02/KINDERN-EINE-CHANCE-2.jpg
END:VEVENT
END:VCALENDAR