BEGIN:VCALENDAR
VERSION:2.0
PRODID:-//Kultur am Land - ECPv6.15.18//NONSGML v1.0//EN
CALSCALE:GREGORIAN
METHOD:PUBLISH
X-ORIGINAL-URL:https://www.kulturamland.at
X-WR-CALDESC:Veranstaltungen für Kultur am Land
REFRESH-INTERVAL;VALUE=DURATION:PT1H
X-Robots-Tag:noindex
X-PUBLISHED-TTL:PT1H
BEGIN:VTIMEZONE
TZID:Europe/Vienna
BEGIN:DAYLIGHT
TZOFFSETFROM:+0100
TZOFFSETTO:+0200
TZNAME:CEST
DTSTART:20250330T010000
END:DAYLIGHT
BEGIN:STANDARD
TZOFFSETFROM:+0200
TZOFFSETTO:+0100
TZNAME:CET
DTSTART:20251026T010000
END:STANDARD
BEGIN:DAYLIGHT
TZOFFSETFROM:+0100
TZOFFSETTO:+0200
TZNAME:CEST
DTSTART:20260329T010000
END:DAYLIGHT
BEGIN:STANDARD
TZOFFSETFROM:+0200
TZOFFSETTO:+0100
TZNAME:CET
DTSTART:20261025T010000
END:STANDARD
BEGIN:DAYLIGHT
TZOFFSETFROM:+0100
TZOFFSETTO:+0200
TZNAME:CEST
DTSTART:20270328T010000
END:DAYLIGHT
BEGIN:STANDARD
TZOFFSETFROM:+0200
TZOFFSETTO:+0100
TZNAME:CET
DTSTART:20271031T010000
END:STANDARD
END:VTIMEZONE
BEGIN:VEVENT
DTSTART;TZID=Europe/Vienna:20260417T150000
DTEND;TZID=Europe/Vienna:20260417T150000
DTSTAMP:20260424T123105
CREATED:20260205T112041Z
LAST-MODIFIED:20260205T150222Z
UID:8642-1776438000-1776438000@www.kulturamland.at
SUMMARY:Kim chi trifft Sauerkraut
DESCRIPTION:Fermentier-Treff bei KULTUREN am Land\n \n\nWer fermentiert\, hat meist allerhand zu erzählen\, vielleicht auch was zu fragen. Wer es immer schon gerne mal probieren wollte und sich nie so ganz getraut hat\, kann hier die Dinge erfahren\, die nicht in den Rezepten stehen. \nBei einer Tasse oder Glas Fermentiertem (Tee\, Kaffee\, Bier) geht das besonders gut. \nFür wen?  Neulinge und Erfahrene\, Mehrfach-Täter und zaghafte Würd- ich-auch-gerns\, Traditionalistinnen und Experimentierfreudige. – alle sind willkommen. \nBringt auch gerne eure blubbernden Freunde wie Kombucha\, Kefir\, Wasser-Kefir\, Bier\, Wein\, Natto und Co. \n \n\nEintritt: FREIwillig – Gib wieviel es Dir wert istFür Fragen: fermentiertreff@mailbox.org15:00 Uhr – 18:00UhrEinlass: 15 min. vor Beginn der Veranstaltung
URL:https://www.kulturamland.at/programm/kim-chi-trifft-sauerkraut-5/
CATEGORIES:Info,Treffpunkt,Workshop
ATTACH;FMTTYPE=image/jpeg:https://www.kulturamland.at/wp-content/uploads/2023/09/Fermentier-treff.jpg
END:VEVENT
END:VCALENDAR