BEGIN:VCALENDAR
VERSION:2.0
PRODID:-//Kultur am Land - ECPv6.15.18//NONSGML v1.0//EN
CALSCALE:GREGORIAN
METHOD:PUBLISH
X-ORIGINAL-URL:https://www.kulturamland.at
X-WR-CALDESC:Veranstaltungen für Kultur am Land
REFRESH-INTERVAL;VALUE=DURATION:PT1H
X-Robots-Tag:noindex
X-PUBLISHED-TTL:PT1H
BEGIN:VTIMEZONE
TZID:Europe/Vienna
BEGIN:DAYLIGHT
TZOFFSETFROM:+0100
TZOFFSETTO:+0200
TZNAME:CEST
DTSTART:20250330T010000
END:DAYLIGHT
BEGIN:STANDARD
TZOFFSETFROM:+0200
TZOFFSETTO:+0100
TZNAME:CET
DTSTART:20251026T010000
END:STANDARD
BEGIN:DAYLIGHT
TZOFFSETFROM:+0100
TZOFFSETTO:+0200
TZNAME:CEST
DTSTART:20260329T010000
END:DAYLIGHT
BEGIN:STANDARD
TZOFFSETFROM:+0200
TZOFFSETTO:+0100
TZNAME:CET
DTSTART:20261025T010000
END:STANDARD
BEGIN:DAYLIGHT
TZOFFSETFROM:+0100
TZOFFSETTO:+0200
TZNAME:CEST
DTSTART:20270328T010000
END:DAYLIGHT
BEGIN:STANDARD
TZOFFSETFROM:+0200
TZOFFSETTO:+0100
TZNAME:CET
DTSTART:20271031T010000
END:STANDARD
END:VTIMEZONE
BEGIN:VEVENT
DTSTART;TZID=Europe/Vienna:20260225T201500
DTEND;TZID=Europe/Vienna:20260225T201500
DTSTAMP:20260424T124200
CREATED:20260116T094044Z
LAST-MODIFIED:20260320T112116Z
UID:8596-1772050500-1772050500@www.kulturamland.at
SUMMARY:KINO - Elements Of(f) Balance
DESCRIPTION:Eine Reise zu kaum gesehenen Ökosystemen\, inmitten einer auf Ausbeutung basierenden Welt. Nicht dystopische Zukunftsvisionen stehen im Mittelpunkt\, sondern ein neues Bewusstsein und neue\, konkrete Möglichkeiten\, die sich der Menschheit bieten\, wenn verstrickte Lebensformen und vergessene Allianzen die Grundlage des Umgangs mit der Natur sind. \n\nElements of(f) Balance ist ein visuell faszinierender Dokumentarfilm\, den man mit Respekt und Ehrfurcht betrachten sollte\, der uns aber angesichts der Dringlichkeit der behandelten Themen vor allem dazu anregt\, kritische und aktive Zuschauer:innen zu werden. Auf der Viennale 2025. (Othmar Schmiderer) \n\nÖkologische Verflechtungen\, Co-Creation\, Resilienz und Kollaboration in der Natur – das ist der Stoff dieses Dokumentarfilms vor dem Hintergrund unserer zunehmend bedrohten Lebenswelt\, die mit immensen ökologischen Herausforderungen konfrontiert ist. Jenseits der Pole Nostalgie und Technofuturismus geben die Episoden des Films Einblick in natürliche Prozesse und Systeme.In Mitteleuropa wird toter Forst wieder lebendiger Wald\, in Bangladesch trotzen schwimmende Beete dem Klimawandel\, in Chinas Wüsten entsteht das größte Renaturierungsprojekt der Welt\, und im Donaudelta fallen alte Dämme für neue Biodiversität. \nKINO Trailer \nPilze inspirieren Architektur und Mode\, Quallen erzählen von uralten Überlebensstrategien\, Permakultur schafft auf dem Krameterhof lebendige Biotope\, während in Wageningen KI-gestützte\, kreislauforientierte Landwirtschaft erforscht wird. \nAll diesen Projekten ist eines gemeinsam: Nicht Einzelinteressen\, sondern das Miteinander macht Ökosysteme stark. Die Natur als Vorbild für innovative Wege\, den ökologischen Herausforderungen unserer Zeit zu begegnen.  \n————————————————————— \nRegie: Othmar Schmiderer Drehbuch: Stephan Settele\, Othmar Schmiderer  \nÖsterreich 2025 / 98 Minuten  \nJETZT RESERVIEREN\nEintritt: FREIwillig – Gib wieviel es Dir wert ist  \nEinlass: 30 min. vor Beginn der Veranstaltung
URL:https://www.kulturamland.at/programm/elements-off-balance/
CATEGORIES:Archiv,Kino
ATTACH;FMTTYPE=image/jpeg:https://www.kulturamland.at/wp-content/uploads/2026/02/Kino-Elements-Off-Balance.jpg
END:VEVENT
END:VCALENDAR