BEGIN:VCALENDAR
VERSION:2.0
PRODID:-//Kultur am Land - ECPv6.15.18//NONSGML v1.0//EN
CALSCALE:GREGORIAN
METHOD:PUBLISH
X-WR-CALNAME:Kultur am Land
X-ORIGINAL-URL:https://www.kulturamland.at
X-WR-CALDESC:Veranstaltungen für Kultur am Land
REFRESH-INTERVAL;VALUE=DURATION:PT1H
X-Robots-Tag:noindex
X-PUBLISHED-TTL:PT1H
BEGIN:VTIMEZONE
TZID:Europe/Vienna
BEGIN:DAYLIGHT
TZOFFSETFROM:+0100
TZOFFSETTO:+0200
TZNAME:CEST
DTSTART:20250330T010000
END:DAYLIGHT
BEGIN:STANDARD
TZOFFSETFROM:+0200
TZOFFSETTO:+0100
TZNAME:CET
DTSTART:20251026T010000
END:STANDARD
BEGIN:DAYLIGHT
TZOFFSETFROM:+0100
TZOFFSETTO:+0200
TZNAME:CEST
DTSTART:20260329T010000
END:DAYLIGHT
BEGIN:STANDARD
TZOFFSETFROM:+0200
TZOFFSETTO:+0100
TZNAME:CET
DTSTART:20261025T010000
END:STANDARD
BEGIN:DAYLIGHT
TZOFFSETFROM:+0100
TZOFFSETTO:+0200
TZNAME:CEST
DTSTART:20270328T010000
END:DAYLIGHT
BEGIN:STANDARD
TZOFFSETFROM:+0200
TZOFFSETTO:+0100
TZNAME:CET
DTSTART:20271031T010000
END:STANDARD
END:VTIMEZONE
BEGIN:VEVENT
DTSTART;TZID=Europe/Vienna:20260204T201500
DTEND;TZID=Europe/Vienna:20260204T201500
DTSTAMP:20260424T141211
CREATED:20260116T092449Z
LAST-MODIFIED:20260205T103058Z
UID:8578-1770236100-1770236100@www.kulturamland.at
SUMMARY:KINO - Der Lehrer\, der uns das Meer versprach
DESCRIPTION:Der Film ist ein Appell an die Menschlichkeit und ein Kino-erlebnis\, dessen Botschaft in der heutigen Zeit aktueller und wichtiger ist denn je. \nSpanien 1935: Der junge Lehrer Antoni Benaiges (Enric Auquer) übernimmt kurz vor Ausbruch des spanischen Bürgerkriegs die Grundschule eines kleinen\, abgelegenen Dorfes in der Provinz Burgos. Dank seiner fortschrittlichen\, antiautoritären Unterrichtsmethoden baut er schnell eine vertrauensvolle Beziehung zu seiner Klasse auf. Doch der freundschaftliche Umgang mit den Kindern wird von Eltern und Dorfvorstehern argwöhnisch beobachtet. Und dann gibt Benaiges seinen Schülern ein Versprechen: In den Sommerferien will er ihnen das Meer zeigen\, das die Kinder noch nie gesehen haben. Bei den Eltern der Kinder stößt diese Idee auf große Skepsis… 75 Jahre später\, im Jahr 2010\, recherchiert Ariadna (Laia Costa)\, die Enkelin eines seiner damaligen Schüler\, die bewegende Geschichte von Antoni Benaiges und entdeckt dabei\, mit welch großen Widerständen dieser charismatische Mann zu kämpfen hatte. \nNeben Enric Auquer\, dessen mitreißende Darstellung die Herzen der Zuschauer im Sturm erobert\, kehrt Laia Costa\, die 2015 mit dem Deutschen Filmpreis für die beste weibliche Hauptrolle in VICTORIA ausgezeichnet wurde\, auf die Leinwände zurück.  \nKINO Trailer \nSpanien 2025 / 105 MinutenRegie: Patricia Font / Drehbuch: Albert Val /  \nEintritt: FREIwillig – wieviel es Dir wert ist  \nReservierung: ticket@kulturamland.at \nEinlass: 30 min. vor Beginn der Veranstaltung
URL:https://www.kulturamland.at/programm/der-lehrer-der-uns-das-meer-versprach/
CATEGORIES:Archiv,Kino
ATTACH;FMTTYPE=image/jpeg:https://www.kulturamland.at/wp-content/uploads/2026/01/Kino-Der-Lehrer-der-uns-das-Meer-versprach.jpg
END:VEVENT
END:VCALENDAR