BEGIN:VCALENDAR
VERSION:2.0
PRODID:-//Kultur am Land - ECPv6.15.18//NONSGML v1.0//EN
CALSCALE:GREGORIAN
METHOD:PUBLISH
X-WR-CALNAME:Kultur am Land
X-ORIGINAL-URL:https://www.kulturamland.at
X-WR-CALDESC:Veranstaltungen für Kultur am Land
REFRESH-INTERVAL;VALUE=DURATION:PT1H
X-Robots-Tag:noindex
X-PUBLISHED-TTL:PT1H
BEGIN:VTIMEZONE
TZID:Europe/Vienna
BEGIN:DAYLIGHT
TZOFFSETFROM:+0100
TZOFFSETTO:+0200
TZNAME:CEST
DTSTART:20250330T010000
END:DAYLIGHT
BEGIN:STANDARD
TZOFFSETFROM:+0200
TZOFFSETTO:+0100
TZNAME:CET
DTSTART:20251026T010000
END:STANDARD
BEGIN:DAYLIGHT
TZOFFSETFROM:+0100
TZOFFSETTO:+0200
TZNAME:CEST
DTSTART:20260329T010000
END:DAYLIGHT
BEGIN:STANDARD
TZOFFSETFROM:+0200
TZOFFSETTO:+0100
TZNAME:CET
DTSTART:20261025T010000
END:STANDARD
BEGIN:DAYLIGHT
TZOFFSETFROM:+0100
TZOFFSETTO:+0200
TZNAME:CEST
DTSTART:20270328T010000
END:DAYLIGHT
BEGIN:STANDARD
TZOFFSETFROM:+0200
TZOFFSETTO:+0100
TZNAME:CET
DTSTART:20271031T010000
END:STANDARD
END:VTIMEZONE
BEGIN:VEVENT
DTSTART;TZID=Europe/Vienna:20260124T140000
DTEND;TZID=Europe/Vienna:20260124T140000
DTSTAMP:20260424T155809
CREATED:20251110T132653Z
LAST-MODIFIED:20260203T074659Z
UID:8478-1769263200-1769263200@www.kulturamland.at
SUMMARY:Repair Cafe Buch 🪴🪛
DESCRIPTION:Wieder warten diverse ReparateurInnen wie ElektrikerInnen\, NäherInnen\, usw auf eure defekten Dinge\, die ihr dann GEMEINSAM begutachtet und versuchen sie instand zu setzen. Defekte Toaster\, wackelige Hocker\, kaputte Spielsachen\,… Angenommen wird alles\, was leicht transportiert werden kann.  \nDie Reparaturen sind kostenlos. Ob die Reparatur schlussendlich gelingt\, kann das Repair Café nicht versprechen. Wichtiger ist vielmehr\, dass die BesucherIn die Einstellung zu defekten Dingen ändert. Alles passiert bei einer gemütlichen Tasse Kaffee und Kuchen. \nEXTRAS:– Kleiner Werkzeug Flohmarkt– Die ErklärBAR– Tipps & Tricks: Lebensverlängerung von Smartphones \nFREIwillige SpendeBeginn 14:00 bis 18:00Uhr \nInfos unter info@kulturamland.at oder Tel . 0680-3057247——————————– www.repaircafe-tirol.at/
URL:https://www.kulturamland.at/programm/repair-cafe-buch-2/
LOCATION:Kultur am Land\, St. Margarethen 101\, Buch in Tirol\, Tirol\, 6220\, Österreich
CATEGORIES:Archiv,Nachhaltig
ATTACH;FMTTYPE=image/jpeg:https://www.kulturamland.at/wp-content/uploads/2024/11/Repair-Cafe-2-scaled.jpg
END:VEVENT
END:VCALENDAR