BEGIN:VCALENDAR
VERSION:2.0
PRODID:-//Kultur am Land - ECPv6.15.18//NONSGML v1.0//EN
CALSCALE:GREGORIAN
METHOD:PUBLISH
X-ORIGINAL-URL:https://www.kulturamland.at
X-WR-CALDESC:Veranstaltungen für Kultur am Land
REFRESH-INTERVAL;VALUE=DURATION:PT1H
X-Robots-Tag:noindex
X-PUBLISHED-TTL:PT1H
BEGIN:VTIMEZONE
TZID:Europe/Vienna
BEGIN:DAYLIGHT
TZOFFSETFROM:+0100
TZOFFSETTO:+0200
TZNAME:CEST
DTSTART:20240331T010000
END:DAYLIGHT
BEGIN:STANDARD
TZOFFSETFROM:+0200
TZOFFSETTO:+0100
TZNAME:CET
DTSTART:20241027T010000
END:STANDARD
BEGIN:DAYLIGHT
TZOFFSETFROM:+0100
TZOFFSETTO:+0200
TZNAME:CEST
DTSTART:20250330T010000
END:DAYLIGHT
BEGIN:STANDARD
TZOFFSETFROM:+0200
TZOFFSETTO:+0100
TZNAME:CET
DTSTART:20251026T010000
END:STANDARD
BEGIN:DAYLIGHT
TZOFFSETFROM:+0100
TZOFFSETTO:+0200
TZNAME:CEST
DTSTART:20260329T010000
END:DAYLIGHT
BEGIN:STANDARD
TZOFFSETFROM:+0200
TZOFFSETTO:+0100
TZNAME:CET
DTSTART:20261025T010000
END:STANDARD
BEGIN:DAYLIGHT
TZOFFSETFROM:+0100
TZOFFSETTO:+0200
TZNAME:CEST
DTSTART:20270328T010000
END:DAYLIGHT
BEGIN:STANDARD
TZOFFSETFROM:+0200
TZOFFSETTO:+0100
TZNAME:CET
DTSTART:20271031T010000
END:STANDARD
END:VTIMEZONE
BEGIN:VEVENT
DTSTART;TZID=Europe/Vienna:20251214T080000
DTEND;TZID=Europe/Vienna:20260115T170000
DTSTAMP:20260424T161456
CREATED:20251203T112105Z
LAST-MODIFIED:20251203T112105Z
UID:8559-1765699200-1768496400@www.kulturamland.at
SUMMARY:Winterpause
DESCRIPTION:„Kultur am Land wünscht allen eine ruige Weihnachtszeit\, frohe Festtage \nund einen guten Rutsch ins neue Jahr. \nWir bedanken uns herzlich für die Unterstützung\, die Begegnungen und die gemeinsamen kulturellen Momente des vergangenen Jahres. \nMit Vorfreude blicken wir auf ein neues\, vielfältiges Kulturjahr 2026.“
URL:https://www.kulturamland.at/programm/winterpause/
CATEGORIES:Info
ATTACH;FMTTYPE=image/jpeg:https://www.kulturamland.at/wp-content/uploads/2025/12/winterpause.jpg
END:VEVENT
END:VCALENDAR