BEGIN:VCALENDAR
VERSION:2.0
PRODID:-//Kultur am Land - ECPv6.15.18//NONSGML v1.0//EN
CALSCALE:GREGORIAN
METHOD:PUBLISH
X-ORIGINAL-URL:https://www.kulturamland.at
X-WR-CALDESC:Veranstaltungen für Kultur am Land
REFRESH-INTERVAL;VALUE=DURATION:PT1H
X-Robots-Tag:noindex
X-PUBLISHED-TTL:PT1H
BEGIN:VTIMEZONE
TZID:Europe/Vienna
BEGIN:DAYLIGHT
TZOFFSETFROM:+0100
TZOFFSETTO:+0200
TZNAME:CEST
DTSTART:20240331T010000
END:DAYLIGHT
BEGIN:STANDARD
TZOFFSETFROM:+0200
TZOFFSETTO:+0100
TZNAME:CET
DTSTART:20241027T010000
END:STANDARD
BEGIN:DAYLIGHT
TZOFFSETFROM:+0100
TZOFFSETTO:+0200
TZNAME:CEST
DTSTART:20250330T010000
END:DAYLIGHT
BEGIN:STANDARD
TZOFFSETFROM:+0200
TZOFFSETTO:+0100
TZNAME:CET
DTSTART:20251026T010000
END:STANDARD
BEGIN:DAYLIGHT
TZOFFSETFROM:+0100
TZOFFSETTO:+0200
TZNAME:CEST
DTSTART:20260329T010000
END:DAYLIGHT
BEGIN:STANDARD
TZOFFSETFROM:+0200
TZOFFSETTO:+0100
TZNAME:CET
DTSTART:20261025T010000
END:STANDARD
END:VTIMEZONE
BEGIN:VEVENT
DTSTART;TZID=Europe/Vienna:20251207T120000
DTEND;TZID=Europe/Vienna:20251207T120000
DTSTAMP:20260424T175907
CREATED:20251110T131747Z
LAST-MODIFIED:20260320T112244Z
UID:8463-1765108800-1765108800@www.kulturamland.at
SUMMARY:Zommkemma im Advent So
DESCRIPTION:Zommkemma im Advent\nUnter diesem Motto steht unser Weihnachtsmarkt und ist eine echte Alternative zu den klassischen Märkten. Schaut vorbei und genießt die gemütliche Atmosphäre \nKreativmarktBeim Kultur am Land Kreativmarkt gibt es eine große Auswahl an schönen\, nützlichen\, gesunden und schenkenswerten Produkten aus Tirol und der ganzen Welt. Z.B. Schmuck\, Tees\, selbstgemache Kekse\, Marmelade\, Liköre\, Salben\, Stoffe\, Töpferware\, Taschen\, handgemachte Tücher und vieles mehr. \nKulinarischesEs gibt Kulinarisches von Koidampf\, Kaffee\, Kuchen und natürlich die Klassiker zum Aufwärmen. \nMusik am LagerfeuerLive Musik auf der Terrasse hat auch schon Tradition und bringt Stimmung in den Weihnachtsmarkt. \nGALING – Danceable FolkInternationale folkloristische Musikkultur aus allen Himmelsrichtungen wird aufgegriffen und neu interpretiert. Kopf und Beine geraten in Schwingung uns lassen keinen Zweifel über Kraft und Energie verschiedenster Musikwelten!Christina Nessmann: Saxophon\, Stefan Manges: Akkordeon\, Kenneth Gasser: Perkussion \n\nEintritt: Frei \nÖffnungszeit: Sa 6.12 & So 7.12 \n12:00 bis 18:00 Uhr
URL:https://www.kulturamland.at/programm/zommkemma-im-advent-so-2/
CATEGORIES:Familie,Kunst,Markt
END:VEVENT
END:VCALENDAR