BEGIN:VCALENDAR
VERSION:2.0
PRODID:-//Kultur am Land - ECPv6.15.18//NONSGML v1.0//EN
CALSCALE:GREGORIAN
METHOD:PUBLISH
X-WR-CALNAME:Kultur am Land
X-ORIGINAL-URL:https://www.kulturamland.at
X-WR-CALDESC:Veranstaltungen für Kultur am Land
REFRESH-INTERVAL;VALUE=DURATION:PT1H
X-Robots-Tag:noindex
X-PUBLISHED-TTL:PT1H
BEGIN:VTIMEZONE
TZID:Europe/Vienna
BEGIN:DAYLIGHT
TZOFFSETFROM:+0100
TZOFFSETTO:+0200
TZNAME:CEST
DTSTART:20240331T010000
END:DAYLIGHT
BEGIN:STANDARD
TZOFFSETFROM:+0200
TZOFFSETTO:+0100
TZNAME:CET
DTSTART:20241027T010000
END:STANDARD
BEGIN:DAYLIGHT
TZOFFSETFROM:+0100
TZOFFSETTO:+0200
TZNAME:CEST
DTSTART:20250330T010000
END:DAYLIGHT
BEGIN:STANDARD
TZOFFSETFROM:+0200
TZOFFSETTO:+0100
TZNAME:CET
DTSTART:20251026T010000
END:STANDARD
BEGIN:DAYLIGHT
TZOFFSETFROM:+0100
TZOFFSETTO:+0200
TZNAME:CEST
DTSTART:20260329T010000
END:DAYLIGHT
BEGIN:STANDARD
TZOFFSETFROM:+0200
TZOFFSETTO:+0100
TZNAME:CET
DTSTART:20261025T010000
END:STANDARD
END:VTIMEZONE
BEGIN:VEVENT
DTSTART;TZID=Europe/Vienna:20251203T201500
DTEND;TZID=Europe/Vienna:20251203T201500
DTSTAMP:20260424T175717
CREATED:20250825T122618Z
LAST-MODIFIED:20251028T080811Z
UID:7761-1764792900-1764792900@www.kulturamland.at
SUMMARY:🎞️Wie kommen wir da wieder raus?
DESCRIPTION:Eine Komödie über die Zumutungen der Pandemie\, vegane Gänse\, Unverträglichkeiten aller Art und die Schwierigkeit zu verstehen\, dass die Lösungen der einen die Katastrophen der anderen sind. Weihnachten – schon normalerweise nicht das Lieblingsfest der atheistischen\, feministischen Chirurgin Wanda. Und schon gar nicht in Zeiten der Pandemie\, wenn der eigene Vater Corona-Demos organisiert\, die Tochter sich im falschen Körper vermutet und die neue Frau des Ex-Mannes neuerdings Reiki-Therapeutin ist. Womit haben wir das schon wieder verdient? \nDieses Patchwork-Weihnachtsfest mitten in der Pandemie soll das harmonischste aller Zeiten werden\, wünscht sich die atheistische\, feministische Chirurgin Wanda (Caroline Peters). Als aber Tochter Nina (Chantal Zitzenbacher) aus Provokation behauptet\, sie befinde sich im falschen Körper und plane eine Transition\, beginnt der Abend zu eskalieren. Nach und nach kommen die Geheimnisse aller Familienmitglieder ans Licht und der Abend eskaliert völlig. \nKritik. Oh du Zwidere! Eva Spreitzhofers Weihnachtskammerspiel zieht aktuelle Gender- und Klima-Debatten pointiert durch den Kakao. \nTrailer \nÖsterreich 2023 / 91 Minuten\nRegie: Eva Spreitzhofer \nMit: Caroline Peters\, Michael Ostrowski\, Simon Schwarz\, Marcel Mohab\, Hilde Dalik\, Chantal Zitzenbacher\, Anna Laimanee\, Felix Rank\, Pia Hierzegger\, Angelo Konzett\, Ali Salman\, Marina Lackovic \nReservierung: ticket@kulturamland.at\nEinlass: 30 min. vor Beginn der Veranstaltung\nEintritt: FREIwillig – Gib wieviel es Dir wert ist
URL:https://www.kulturamland.at/programm/wie-kommen-wir-da-wieder-raus/
CATEGORIES:Kino
ATTACH;FMTTYPE=image/jpeg:https://www.kulturamland.at/wp-content/uploads/2025/09/Kino-.jpg
END:VEVENT
END:VCALENDAR