BEGIN:VCALENDAR
VERSION:2.0
PRODID:-//Kultur am Land - ECPv6.15.18//NONSGML v1.0//EN
CALSCALE:GREGORIAN
METHOD:PUBLISH
X-ORIGINAL-URL:https://www.kulturamland.at
X-WR-CALDESC:Veranstaltungen für Kultur am Land
REFRESH-INTERVAL;VALUE=DURATION:PT1H
X-Robots-Tag:noindex
X-PUBLISHED-TTL:PT1H
BEGIN:VTIMEZONE
TZID:Europe/Vienna
BEGIN:DAYLIGHT
TZOFFSETFROM:+0100
TZOFFSETTO:+0200
TZNAME:CEST
DTSTART:20240331T010000
END:DAYLIGHT
BEGIN:STANDARD
TZOFFSETFROM:+0200
TZOFFSETTO:+0100
TZNAME:CET
DTSTART:20241027T010000
END:STANDARD
BEGIN:DAYLIGHT
TZOFFSETFROM:+0100
TZOFFSETTO:+0200
TZNAME:CEST
DTSTART:20250330T010000
END:DAYLIGHT
BEGIN:STANDARD
TZOFFSETFROM:+0200
TZOFFSETTO:+0100
TZNAME:CET
DTSTART:20251026T010000
END:STANDARD
BEGIN:DAYLIGHT
TZOFFSETFROM:+0100
TZOFFSETTO:+0200
TZNAME:CEST
DTSTART:20260329T010000
END:DAYLIGHT
BEGIN:STANDARD
TZOFFSETFROM:+0200
TZOFFSETTO:+0100
TZNAME:CET
DTSTART:20261025T010000
END:STANDARD
END:VTIMEZONE
BEGIN:VEVENT
DTSTART;TZID=Europe/Vienna:20251018T093000
DTEND;TZID=Europe/Vienna:20251018T093000
DTSTAMP:20260424T210632
CREATED:20250818T151237Z
LAST-MODIFIED:20251028T081513Z
UID:7692-1760779800-1760779800@www.kulturamland.at
SUMMARY:Ausgebucht!😃Trommel bauen
DESCRIPTION:Erschaffe in der Musikwerkstatt durch Kreativität dein eigenes\, selbstgebautes Musikinstrument\, das wir gemeinsam erforschen und zum Leben erklingen lassen. \nDiesmal geht die Reise zu den Trommel Brasiliens und Afrika.  Die Trommel ist eines der ältesten Musikinstrumente der Welt. Sie ist in jedem Erdteil und jeder Kultur zu finden. Die Trommel hatte immer eine große Bedeutung für die Menschen\, da ihr Klang dem Herzschlag der Mutter gleicht. \nMit viel Kreativität und Bastellaune entsteht deine eigene\, selbstgemachte Trommel\, mit der wir zum Schluss noch gemeinsam spielen werden.  \nMitzubringen:     Kleidung die schmutzig werden darf            \nINFO\nBegrenzte Teilnehmerzahl!ab 6 Jahren (jünger mit Begleitung) / Dauer ca. 2\,5hKosten: € 15\,- inkl. Material\, Getränke u. kleiner Jause Anmeldung bei Elke unter 0664/3426326
URL:https://www.kulturamland.at/programm/kreativ-kids-5/
CATEGORIES:Archiv,Kids
ATTACH;FMTTYPE=image/jpeg:https://www.kulturamland.at/wp-content/uploads/2025/08/Trommel-bauen.jpg
END:VEVENT
BEGIN:VEVENT
DTSTART;TZID=Europe/Vienna:20251018T150000
DTEND;TZID=Europe/Vienna:20251018T150000
DTSTAMP:20260424T210632
CREATED:20250818T074035Z
LAST-MODIFIED:20251028T081023Z
UID:7805-1760799600-1760799600@www.kulturamland.at
SUMMARY:👣Swing Tanzkurs  👉in Schwaz
DESCRIPTION:Swing Tanzworkshop\n \nWO: Schwaz –  Johannes Messner Weg 12\,  Osthalle im Ernst Saal.  \n15.00 – 16.15 Styling im Lindy für Leicht Fortgeschrittene\nIn diesem Kurs lernst du\, wie du mit einfachen Mitteln deine gefestigten Basics aufpeppen und deinen Tanz verspielter und interessanter machen kannst! \n16.30 – 17.45 Styling im Swingout für Fortgeschrittene\nWenn die Basics sitzen und der Swingout wuppt\, lernst du in diesem Kurs wie du beidem durch Styling und Variationen dein persönliches Etwas hinzufügen kannst! \nTrainerInnen: Greta und Yannick \nAnmeldung im EKIZ – Schwaz unter:\ninfo@ekiz-schwaz.at oder 05242 72848 Vorm. \n——————————————————- \nEine Kooperation mit „Swing Tanz.at“ Schwaz\nKontakt: schwaz.swingtanzen@gmail.com \n\nSwingin‘ Party – Band Jazzaster > mehr Info \nAnmeldung im EKIZ – Schwaz unter: info@ekiz-schwaz.at oder 05242 72848 Vorm. \nPreise:  1 Einheit 17 €  |||   2 Einheiten Preis 26 €
URL:https://www.kulturamland.at/programm/swing-tanzworkshop-in-schwaz/
CATEGORIES:Archiv,Workshop
ATTACH;FMTTYPE=image/jpeg:https://www.kulturamland.at/wp-content/uploads/2025/08/Workshop-Swing2.jpg
END:VEVENT
BEGIN:VEVENT
DTSTART;TZID=Europe/Vienna:20251018T203000
DTEND;TZID=Europe/Vienna:20251018T203000
DTSTAMP:20260424T210633
CREATED:20250705T203136Z
LAST-MODIFIED:20251028T081019Z
UID:7698-1760819400-1760819400@www.kulturamland.at
SUMMARY:🎶Swingin‘ Party - Band Jazzaster
DESCRIPTION:Swingparty bei Kultur am Land  \n19.00 Swing – SoloCrashKurs Solo Tanzen für Anfänger und FortgeschritteneAnmeldung: ticket@kulturamland.at \n20:30 Band JazzasterDie Band „Jazzaster“ rund um die Pianistin „Rita Goller“ sorgt dafür\, dass der Abend den richtigen SwingGroove bekommt. \n——————————————————- \nEine Kooperation mit „Swing Tanz.at“ SchwazKontakt: schwaz.swingtanzen@gmail.com \n \n\n\n\nSwing Tanzworkshop – mehr Infos >>>WO: Schwaz –  Johannes Messner Weg 12\, in Schwaz\, Osthalle im Ernst Saal.  \n\nEintritt:€ 16\,- (inklusiv 1h SoloCrashKurs)12€ für Teilnehmer vom Nachmitags Workshop \nAnmeldung SoloCrashKurs & Ticket Reservierung: ticket@kulturamland.at \nEinlass: 30 min. vor Beginn der VeranstaltungFreie Platzwahl / wenig Sitzplätze + Tanzfläche
URL:https://www.kulturamland.at/programm/swingin-samstag/
CATEGORIES:Archiv,Konzert
ATTACH;FMTTYPE=image/jpeg:https://www.kulturamland.at/wp-content/uploads/2025/09/Swing-Jazzaster.jpg
END:VEVENT
END:VCALENDAR