BEGIN:VCALENDAR
VERSION:2.0
PRODID:-//Kultur am Land - ECPv6.15.18//NONSGML v1.0//EN
CALSCALE:GREGORIAN
METHOD:PUBLISH
X-ORIGINAL-URL:https://www.kulturamland.at
X-WR-CALDESC:Veranstaltungen für Kultur am Land
REFRESH-INTERVAL;VALUE=DURATION:PT1H
X-Robots-Tag:noindex
X-PUBLISHED-TTL:PT1H
BEGIN:VTIMEZONE
TZID:Europe/Vienna
BEGIN:DAYLIGHT
TZOFFSETFROM:+0100
TZOFFSETTO:+0200
TZNAME:CEST
DTSTART:20240331T010000
END:DAYLIGHT
BEGIN:STANDARD
TZOFFSETFROM:+0200
TZOFFSETTO:+0100
TZNAME:CET
DTSTART:20241027T010000
END:STANDARD
BEGIN:DAYLIGHT
TZOFFSETFROM:+0100
TZOFFSETTO:+0200
TZNAME:CEST
DTSTART:20250330T010000
END:DAYLIGHT
BEGIN:STANDARD
TZOFFSETFROM:+0200
TZOFFSETTO:+0100
TZNAME:CET
DTSTART:20251026T010000
END:STANDARD
BEGIN:DAYLIGHT
TZOFFSETFROM:+0100
TZOFFSETTO:+0200
TZNAME:CEST
DTSTART:20260329T010000
END:DAYLIGHT
BEGIN:STANDARD
TZOFFSETFROM:+0200
TZOFFSETTO:+0100
TZNAME:CET
DTSTART:20261025T010000
END:STANDARD
END:VTIMEZONE
BEGIN:VEVENT
DTSTART;TZID=Europe/Vienna:20250926T203000
DTEND;TZID=Europe/Vienna:20250926T203000
DTSTAMP:20260424T225636
CREATED:20250705T203122Z
LAST-MODIFIED:20251006T081347Z
UID:7712-1758918600-1758918600@www.kulturamland.at
SUMMARY:🎶Lion D & Modern Roots Collective
DESCRIPTION:Roots Reggae mit moderner Seele \nMit kraftvoller Stimme\, authentischer Message und packender Live-Energie bringt Lion D gemeinsam mit dem Modern Roots Collective eine frische Brise in die europäische Reggae-Szene. Der in Italien geborene Sänger mit karibischen Wurzeln gilt längst als eine der markantesten Stimmen des europäischen Reggae.  \nLion D verbindet klassische Roots-Einflüsse mit modernen Sounds – von Dub über Dancehall bis hin zu Soul – und transportiert dabei eine klare Botschaft: Einheit\, Bewusstsein und Empowerment. \nDas Modern Roots Collective\, bestehend aus erfahrenen Musiker:innen der internationalen Reggae- und Jazz-Szene\, schafft das Fundament für diesen einzigartigen Sound. Erdige Basslines\, treibende Drums\, Gitarren voller Groove und schwebende Bläserarrangements sorgen für ein Live-Erlebnis\, das ebenso tanzbar wie tiefgründig ist.Gemeinsam schaffen Lion D & das Modern Roots Collective eine Show\, die über Genregrenzen hinaus berührt: modern\, aber tief verwurzelt in der Tradition des Reggae – voller Energie\, Spiritualität und musikalischer Qualität. \n———————— \nBIO: Lion D (David Andrew Ferri) wurde als Sohn einer italienischen Mutter und eines nigerianischen Vaters in London geboren und wuchs in Italien auf\, wohin er bereits in jungen Jahren zog.  Nachdem er sich als Teenager für die Reggae-Musik von Bob Marley und Peter Tosh begeistert hatte\, begann er mit Anfang 20\, seine eigenen Songs zu schreiben. Seine ersten Schritte in der italienischen Reggae-Szene unternahm er 2007 und tourte in den folgenden Jahren durch das ganze Land\, um das Publikum mit seiner feurigen Show und seiner einzigartigen Stimme und seinem Gesangsstil zu begeistern. Gemäß der jamaikanischen Musiktradition haben sich Lion’s Songs schon immer mit einer positiven und aufmunternden Einstellung der Realität gestellt\, die von Spiritualität bis zu sozialen Themen reicht \n\nTicket kaufen Vorverkauf € 18\,- / 15\,- (erm.) – bis Mitternacht 25.09Abendkasse € 22.- / 18\,- (erm.) KaLKulturPass \nReservierung: ticket@kulturamland.at (AK Preis) \nEinlass: 30 min. vor Beginn | Freie Platzwahl / keine Bestuhlung \n\nErmäßigt: für Schüler*innen\, Studierende bis 27\, Lehrlinge\, Präsenzdiener  |||  Freier Eintritt: Kinder & Jugentliche unter 15 JahrenPapier sparen und Umwelt schonen: Zeigt uns beim Einlass gerne einfach das heruntergeladene digitale Ticket am Smartphone.Auch Screenshots und weitergeleitete Tickets funktionieren\, sofern der QR-Code lesbar ist.
URL:https://www.kulturamland.at/programm/lion-d-modern-roots-collective/
CATEGORIES:Archiv,Konzert
ATTACH;FMTTYPE=image/jpeg:https://www.kulturamland.at/wp-content/uploads/2025/08/Lion-D-Modern-Roots-Collective2.jpg
END:VEVENT
END:VCALENDAR