BEGIN:VCALENDAR
VERSION:2.0
PRODID:-//Kultur am Land - ECPv6.15.18//NONSGML v1.0//EN
CALSCALE:GREGORIAN
METHOD:PUBLISH
X-ORIGINAL-URL:https://www.kulturamland.at
X-WR-CALDESC:Veranstaltungen für Kultur am Land
REFRESH-INTERVAL;VALUE=DURATION:PT1H
X-Robots-Tag:noindex
X-PUBLISHED-TTL:PT1H
BEGIN:VTIMEZONE
TZID:Europe/Vienna
BEGIN:DAYLIGHT
TZOFFSETFROM:+0100
TZOFFSETTO:+0200
TZNAME:CEST
DTSTART:20240331T010000
END:DAYLIGHT
BEGIN:STANDARD
TZOFFSETFROM:+0200
TZOFFSETTO:+0100
TZNAME:CET
DTSTART:20241027T010000
END:STANDARD
BEGIN:DAYLIGHT
TZOFFSETFROM:+0100
TZOFFSETTO:+0200
TZNAME:CEST
DTSTART:20250330T010000
END:DAYLIGHT
BEGIN:STANDARD
TZOFFSETFROM:+0200
TZOFFSETTO:+0100
TZNAME:CET
DTSTART:20251026T010000
END:STANDARD
BEGIN:DAYLIGHT
TZOFFSETFROM:+0100
TZOFFSETTO:+0200
TZNAME:CEST
DTSTART:20260329T010000
END:DAYLIGHT
BEGIN:STANDARD
TZOFFSETFROM:+0200
TZOFFSETTO:+0100
TZNAME:CET
DTSTART:20261025T010000
END:STANDARD
END:VTIMEZONE
BEGIN:VEVENT
DTSTART;TZID=Europe/Vienna:20250517T150000
DTEND;TZID=Europe/Vienna:20250517T150000
DTSTAMP:20260425T054033
CREATED:20250128T110854Z
LAST-MODIFIED:20250823T121112Z
UID:7167-1747494000-1747494000@www.kulturamland.at
SUMMARY:😃Ungeheuer Anders – Kindertheater
DESCRIPTION:Es sind noch Tickets an der Kasse erhältlich.😃 \nDas Theaterstück setzt sich humorvoll mit der Thematik „Angst“ auseinander. \nEigentlich heißt „Ungeheuer Anders“ „Hieronimy X“\, aber alle nennen ihn „Anders“. Den Namen hat er deshalb\, weil ihn die anderen Monster einfach nicht gruseln. „Anders“ muss immer fürchterlich lachen\, wenn sie ihn mit ihren alten Methoden zu ängstigen versuchen. \nWas braucht es eigentlich\, damit ein Ungeheuer gruselig ist? Das überlegt „Anders“ fieberhaft. Nach eigenen gescheiterten Versuchen und dem Auseinandersetzten mit den Gruselmethoden seiner lieben Tante\, seiner Opas und seiner besserwisserischen Schwester Henriette\, findet „Anders“ unverhofft eine Freundin\, mit der „gruselig sein“ auch richtig viel Spaß machen kann! \nDas Kindertheater „enemenemuh“ wird seinen Prinzipien treu bleiben und sowohl die Mehrsprachigkeit als auch speziell für das Stück entwickelte musikalische Beiträge beibehalten\, genauso wie die erprobten Sprachen Deutsch\, Türkisch\, Kroatisch und Englisch. \n———————————————————————– \nEin Theaterstück für Kinder ab 5 Jahren von Madeleine Weiler \ndauert ca. 35 MinutenBild by DI Salha FraidlKindertheaterverein enemenemuh: www.enemenemuh.net/ \nVVK Ticket kaufenReservierung: ticket@kulturamland.at \nEinlass: 30 min. vor Beginn der Veranstaltung \nFreie Platzwahl \nEintritt: VVK. € 7\,50\,- | Kasse € 9.- \nPapier sparen und Umwelt schonen\nZeigt uns beim Einlass gerne einfach das heruntergeladene digitale Ticket am Smartphone.
URL:https://www.kulturamland.at/programm/ungeheuer-anders-kindertheater/
CATEGORIES:Archiv,Kids
ATTACH;FMTTYPE=image/jpeg:https://www.kulturamland.at/wp-content/uploads/2025/01/Ungeheuer-Anders.jpg
END:VEVENT
END:VCALENDAR