BEGIN:VCALENDAR
VERSION:2.0
PRODID:-//Kultur am Land - ECPv6.15.18//NONSGML v1.0//EN
CALSCALE:GREGORIAN
METHOD:PUBLISH
X-WR-CALNAME:Kultur am Land
X-ORIGINAL-URL:https://www.kulturamland.at
X-WR-CALDESC:Veranstaltungen für Kultur am Land
REFRESH-INTERVAL;VALUE=DURATION:PT1H
X-Robots-Tag:noindex
X-PUBLISHED-TTL:PT1H
BEGIN:VTIMEZONE
TZID:Europe/Vienna
BEGIN:DAYLIGHT
TZOFFSETFROM:+0100
TZOFFSETTO:+0200
TZNAME:CEST
DTSTART:20240331T010000
END:DAYLIGHT
BEGIN:STANDARD
TZOFFSETFROM:+0200
TZOFFSETTO:+0100
TZNAME:CET
DTSTART:20241027T010000
END:STANDARD
BEGIN:DAYLIGHT
TZOFFSETFROM:+0100
TZOFFSETTO:+0200
TZNAME:CEST
DTSTART:20250330T010000
END:DAYLIGHT
BEGIN:STANDARD
TZOFFSETFROM:+0200
TZOFFSETTO:+0100
TZNAME:CET
DTSTART:20251026T010000
END:STANDARD
BEGIN:DAYLIGHT
TZOFFSETFROM:+0100
TZOFFSETTO:+0200
TZNAME:CEST
DTSTART:20260329T010000
END:DAYLIGHT
BEGIN:STANDARD
TZOFFSETFROM:+0200
TZOFFSETTO:+0100
TZNAME:CET
DTSTART:20261025T010000
END:STANDARD
END:VTIMEZONE
BEGIN:VEVENT
DTSTART;TZID=Europe/Vienna:20250516T160000
DTEND;TZID=Europe/Vienna:20250516T160000
DTSTAMP:20260425T054341
CREATED:20250328T091951Z
LAST-MODIFIED:20250519T054244Z
UID:7327-1747411200-1747411200@www.kulturamland.at
SUMMARY:🎤Beatbox-Workshop mit M.O.M (10-99J)
DESCRIPTION:Beatbox-Workshop mit den 2-fachen Weltmeistern \nDieser Workshop richtet sich an alle Stimm- und Musikbegeisterten – und an alle\, die es noch werden wollen! Beatboxing macht Spaß und ist gut für den Körper. Du wirst staunen\, wie schnell du coole Beats nur mit deinem Mund erzeugen kannst! Dieser Workshop widmet sich intensiv der Ausdrucksform des Beatboxings und setzt sich eingehend mit dem Zusammenspiel von Körper\, Rhythmus\, Atmung und Stimme auseinander. Der Kurs bietet ein umfangreiches Repertoire an Stimm- und Beatboxtechniken\, Soundeffekten\, verschiedenen Grooves und Rhythmen sowie viele neue Möglichkeiten\, den eigenen Körper als schwingendes Musikinstrument zu erfahren. \nMach mit und entdecke die faszinierende Welt des Beatboxings. \nWir freuen uns auf dich – let’s drop some beats! \n von ca 10 bis 99.Jahren ( Jünger auch möglich) \n👉MOM – Beatbox KonzertINFO\nDauer ca. 2h | Kosten: € 30\,- / ca 10-99.Jahren \nAnmeldung:  ticket@kulturamland.at
URL:https://www.kulturamland.at/programm/beatbox-workshop-mit-m-om/
CATEGORIES:Archiv,Kids,Workshop
ATTACH;FMTTYPE=image/jpeg:https://www.kulturamland.at/wp-content/uploads/2025/03/MOM-Beatbox-Workshop.jpg
END:VEVENT
BEGIN:VEVENT
DTSTART;TZID=Europe/Vienna:20250516T203000
DTEND;TZID=Europe/Vienna:20250516T203000
DTSTAMP:20260425T054341
CREATED:20250219T120720Z
LAST-MODIFIED:20250519T054240Z
UID:7218-1747427400-1747427400@www.kulturamland.at
SUMMARY:MOM - Beatbox Crew
DESCRIPTION:🎤🎶 Beatbox trifft Streetdance! 🎶🔥 \nErlebe M.O.M\, die zweifachen Beatbox-Weltmeister aus Wien\, live on stage! Geo Popoff\, Eon und Slizzer zaubern mit nichts als Mund und Mikro eine musikalische Weltreise – von Techno über Latin bis Jazz. Ihre energiegeladene Show sprengt Grenzen\, begeistert alle Sinne und reißt dich garantiert mit. \nMit dabei: die OVG Crew vom Street Motion Studio – kraftvolle Moves\, fette Beats\, pure Leidenschaft! \nUnd für den perfekten Sound sorgt DJ Dropá (Hip Hop / Dancehall) – bekannt von Gans Anders und dem Bogenfest. \n🎧 Musik\, Tanz und Vibes – alles an einem Abend. Sei dabei! \nM.O.M - mehr Info\nDas Besondere ist neben der Musik die spezielle Synergie der drei Berufsmusiker\, die 10 Jahre Freundschaft\, 400 gemeinsame Shows und mehrere Tourneen durch Europa und Asien verbindet. Neben ihrer performativen Tätigkeit trägt M.O.M maßgeblich zur Weiterentwicklung der Beatbox-Szene in Österreich bei\, unter anderem durch regelmäßige Workshops\, die Veranstaltung der nationalen Meisterschaft seit 2017 und die Förderung der Beatbox-Kultur durch den Verein „Mundakrobaten“. M.O.M steht für „Man on a Mission“ und zwar die Mission\, durch ihre Superkraft Menschen zu faszinieren\, zu inspirieren und natürlich zum Tanzen zu bringen. Authentisch überzeugt M.O.M mit einer Bühnenshow\, die einen unvergesslichen Charakter mit sich bringt. \nOVG Crew  – Tanzcrew vom Street Motion Studio\nTanzcrew mit verschiedenen Tanzstilen aus dem Street Motion Studio in Innsbruck. \nDj Dropá (Hip Hop / Dancehall)\nFestivals: Gans Anders 2023\, Bogenfest Festival 2022-2025\nCrews & Kollektive: eh.schu.wissn.\, Kreativ Fabrik Innsbruck \n👉Beatbox WorkshopVVK Ticket kaufenEs sind noch Tickets an der Abendkasse oder im VVK erhältlich.😃 \nReservierung ( AK Preis) ticket@kulturamland.at \nEinlass: 30 min. vor Beginn der Veranstaltung | Freie Platzwahl\nEintritt:  AK € 20.- / 16\,- (erm.) || KaLKulturPass \nErmäßigt: für Schüler*innen\, Studierende bis 27\, Lehrlinge\, Präsenzdiener\,\nFreier Eintritt: Kinder & Jugentliche unter 15 Jahren
URL:https://www.kulturamland.at/programm/mom-beatbox-crew/
CATEGORIES:Archiv,Konzert,Party
ATTACH;FMTTYPE=image/jpeg:https://www.kulturamland.at/wp-content/uploads/2025/02/MOM-Beatbox.jpg
END:VEVENT
END:VCALENDAR