BEGIN:VCALENDAR
VERSION:2.0
PRODID:-//Kultur am Land - ECPv6.15.18//NONSGML v1.0//EN
CALSCALE:GREGORIAN
METHOD:PUBLISH
X-ORIGINAL-URL:https://www.kulturamland.at
X-WR-CALDESC:Veranstaltungen für Kultur am Land
REFRESH-INTERVAL;VALUE=DURATION:PT1H
X-Robots-Tag:noindex
X-PUBLISHED-TTL:PT1H
BEGIN:VTIMEZONE
TZID:Europe/Vienna
BEGIN:DAYLIGHT
TZOFFSETFROM:+0100
TZOFFSETTO:+0200
TZNAME:CEST
DTSTART:20240331T010000
END:DAYLIGHT
BEGIN:STANDARD
TZOFFSETFROM:+0200
TZOFFSETTO:+0100
TZNAME:CET
DTSTART:20241027T010000
END:STANDARD
BEGIN:DAYLIGHT
TZOFFSETFROM:+0100
TZOFFSETTO:+0200
TZNAME:CEST
DTSTART:20250330T010000
END:DAYLIGHT
BEGIN:STANDARD
TZOFFSETFROM:+0200
TZOFFSETTO:+0100
TZNAME:CET
DTSTART:20251026T010000
END:STANDARD
BEGIN:DAYLIGHT
TZOFFSETFROM:+0100
TZOFFSETTO:+0200
TZNAME:CEST
DTSTART:20260329T010000
END:DAYLIGHT
BEGIN:STANDARD
TZOFFSETFROM:+0200
TZOFFSETTO:+0100
TZNAME:CET
DTSTART:20261025T010000
END:STANDARD
END:VTIMEZONE
BEGIN:VEVENT
DTSTART;TZID=Europe/Vienna:20250510T093000
DTEND;TZID=Europe/Vienna:20250510T093000
DTSTAMP:20260425T054631
CREATED:20250123T090958Z
LAST-MODIFIED:20250519T054251Z
UID:7064-1746869400-1746869400@www.kulturamland.at
SUMMARY:😃KREATIV KIDS – Müllmonster
DESCRIPTION:Müllmonster basteln!\nTetrapack\, Joghurtbecher\, leere Karton\,.. diese Sachen sind bei uns noch lange nicht für den Müll. Was andere wegwerfen\, daraus basteln wir bei den Kreativ-Kids lustige Müll-Monster\, einzigartige Roboter\, tolle Raketen-Autos und bezaubernde Prinzessinnen-Handtaschen. Lass deiner Kreativität freien Lauf und erwecke die Müll-Monster zum Leben. \nMitzubringen: Joghurtbecher\, Tetrapack\, leere Duschgel Behälter\, Getränkeflaschen\, Stöpsel\, leere Schachteln\, Alu-Dosen\,… ALLES GUT AUSGEWASCHEN!!! \nKleidung\, die schmutzig werden darf und viel gute Laune! \nBegrenzte Teilnehmerzahl!\nab 6 Jahren (jünger mit Begleitung) / Dauer ca. 2\,5h\nKosten: € 15\,- inkl. Material\, Getränke u. kleiner Jause ( „KAL.KIDS.PASS“ € 10\,-)\nAnmeldung bis Fr 9.5 bei Elke unter 0664-3426326 \nEs gibt einen 10 Punkte “KAL.KIDS.PASS”. An der Kassa erhältlich
URL:https://www.kulturamland.at/programm/kreativ-kids-muellmonster/
CATEGORIES:Archiv,Kids
ATTACH;FMTTYPE=image/jpeg:https://www.kulturamland.at/wp-content/uploads/2025/01/muellmonster.jpg
END:VEVENT
END:VCALENDAR